BEGIN:VCALENDAR
VERSION:2.0
PRODID:-//STRAWANZERIN - ECPv4.9.5//NONSGML v1.0//EN
CALSCALE:GREGORIAN
METHOD:PUBLISH
X-WR-CALNAME:STRAWANZERIN
X-ORIGINAL-URL:https://www.strawanzerin.at
X-WR-CALDESC:Veranstaltungen im STRAWANZERIN
BEGIN:VTIMEZONE
TZID:"Europe/Vienna"
BEGIN:DAYLIGHT
TZOFFSETFROM:+0100
TZOFFSETTO:+0200
TZNAME:CEST
DTSTART:20250330T010000
END:DAYLIGHT
BEGIN:STANDARD
TZOFFSETFROM:+0200
TZOFFSETTO:+0100
TZNAME:CET
DTSTART:20251026T010000
END:STANDARD
END:VTIMEZONE
BEGIN:VEVENT
DTSTART;TZID="Europe/Vienna":20251024T193000
DTEND;TZID="Europe/Vienna":20251024T193000
DTSTAMP:20260421T053314
CREATED:20250904T075142Z
LAST-MODIFIED:20250904T075142Z
UID:109351-1761334200-1761334200@www.strawanzerin.at
SUMMARY:Poetry Slam Champions
DESCRIPTION:Eine Veranstaltung von FOMP in Kooperation mit Theater am Werk \nJetzt wird es spektakulär! FOMP präsentieren die amtierenden Meister*innen im Poetry Slam an einem fulminanten Abend im Theater am Werk im Kabelwerk. Mit dabei: Der Vize-Weltmeister im Poetry Slam Emil Kaschka und das Poetry Slam- Team „Tommy und Annika“ (Christoph Steiner und Lisa Rothhardt)\, die im Oktober 2023 als erste Österreicher*innen jemals bei den Deutschsprachigen Poetry Slam Meisterschaften einen Sieg erringen konnten und diesen 2024 verteidigten. Es werden preisgekrönte Texte und Performances von den Auftretenden abgeliefert. Zudem beantworten diese Expert*innen in kleinen Zwischeninterviews mit der Moderation interessante Fragen rund um das Thema Poetry Slam. \nUngehörte Insider\, witzige Anekdoten und spannende Fakten werden diskutiert und improvisiert. Zum Staunen\, Begeistern und mit ganz viel Liebe zum gesprochenen Wort ist diese Veranstaltung ein Muss für alle Poetry Slam-Fans. \nModeration: Janea Hansen \n
URL:https://www.strawanzerin.at/termin/poetry-slam-champions-3/
LOCATION:Theater am Werk im Kabelwerk\, Oswaldgasse 35A\, Wien\, Wien\, 1120\, Österreich
CATEGORIES:Barrierefrei,Theater/Kabarett,Wien
ATTACH;FMTTYPE=image/jpeg:https://www.strawanzerin.at/wp-content/uploads/2025/08/Poetry-Slam_Inga_AdobeStock.jpg
ORGANIZER;CN="Theater%20am%20Werk":MAILTO:reservierung@theater-am-werk.at
END:VEVENT
END:VCALENDAR