BEGIN:VCALENDAR
VERSION:2.0
PRODID:-//STRAWANZERIN - ECPv4.9.5//NONSGML v1.0//EN
CALSCALE:GREGORIAN
METHOD:PUBLISH
X-WR-CALNAME:STRAWANZERIN
X-ORIGINAL-URL:https://www.strawanzerin.at
X-WR-CALDESC:Veranstaltungen im STRAWANZERIN
BEGIN:VTIMEZONE
TZID:"Europe/Vienna"
BEGIN:DAYLIGHT
TZOFFSETFROM:+0100
TZOFFSETTO:+0200
TZNAME:CEST
DTSTART:20190331T010000
END:DAYLIGHT
BEGIN:STANDARD
TZOFFSETFROM:+0200
TZOFFSETTO:+0100
TZNAME:CET
DTSTART:20191027T010000
END:STANDARD
END:VTIMEZONE
BEGIN:VEVENT
DTSTART;VALUE=DATE:20191018
DTEND;VALUE=DATE:20191021
DTSTAMP:20260421T203432
CREATED:20191011T124506Z
LAST-MODIFIED:20191011T143310Z
UID:69479-1571371200-1571543999@www.strawanzerin.at
SUMMARY:Politik auf dem Teller – das Symposium
DESCRIPTION:-> 18.10.2019 10:00-17:00 Uhr (optional: Do-it-yourself-Workshops ab 18:00 Uhr) im Architekturzentrum Wien\, Museumsplatz 1\, 1070 Wien \n-> 19.10.2019 10:30-13:00 Uhr (optional: Exkursionen ab 13:30 Uhr) im Nationalparkhaus Lobau\, Dechantweg 8\, 1220 Wien \nWir setzen uns mit dem wichtigen Thema der Lebensmittelversorgung in der Stadt auseinander. Was können wir in der Stadt produzieren? Unter welchen Bedingungen? Wo und wer? Die Gemeinde selbst. Die Bewohnerinnen und Bewohner. Kooperativen. Auf den Balkonen und kleinen Gärten\, auf den Feldern in der Stadt\, in den Parks\, auf den Dächern und indoor… \nUnd: Was bedeutet die Nachfragemacht einer Großstadt. Der Menschen\, die hier wohnen\, der Betriebe und der Gemeinde\, die einkauft. Für Kindergärten und Horte\, für Spitäler und Altenheime. \nWir bieten den großen Überblick und schauen auch aufs Detail. Ganz grundsätzlich und mit vielen Beispielen. In Vorträgen\, Workshops\, Diskussionen und Exkursionen. Es kommen Expertinnen und Experten aus verschiedenen Ländern Europas und aus verschiedenen Vereinen\, Institutionen und Initiativen in und um Wien. Mit ihnen und allen Interessierten wollen wir diesen Fragen nachgehen: \n   * Was kann die Stadt für gesunde und ökologische Ernährung tun?\n   * Welche Städte in Europa gehen mit gutem Beispiel voran?\n   * Wie steht es um Lebensmittelbeschaffung und -erzeugung der Stadt Wien aktuell?\n   * Welche Initiativen und Kooperationen gibt es schon?\n   * Was hat städtische Ernährung mit Umwelt\, Klima und sozialen Fragen zu tun?\n   * Wie bekommen wir die Lebensmittelverschwendung in Großstädten in den Griff?\n    Bio oder konventionell\, mit oder ohne Hightech – was tun? \nDas Programm \nFreitag 18.10.2019 (Architekturzentrum Wien\, Museumsquartier\, 1070 Wien) \n    10:00 – 10:15 Uhr\n    Begrüßung \n    10:30 – 12:30 Uhr\n    BLOCK 1: Europäische Leuchtturmprojekte stellen sich vor\n    – Dirk Holemans\, Gent en Garde: Gent\n    – Emma Peyron\, Københavns Madhus: Kopenhagen\n    – Jannet Sanz Cid: Barcelona (angefragt)\n    – Fragen aus dem Publikum \n    12:30 – 13:15 Uhr\n    Mittagessen \n    13:15 – 14:45 Uhr\n    BLOCK 2: politische Dimensionen von Ernährung \n    Raum 1: Ernährung und Soziales\n    – Thomas Barborik: Lebensmittelrettung in Wien\n    – Melanie Oßberger\, FIAN Österreich: Menschenrechts-verletzung Hunger: politische  Ursachen\, Scheinlösungen und das Recht auf Nahrung\n    Kleingruppendiskussion: Wie kann die Stadt zu einer Situationsverbesserung beitragen? \n    Raum 2: Ernährung ung Natur\n    – Global 2000: Umweltzerstörung durch Landwirtschaft (angefragt)\n    – Thomas Putzgruber\, Verein RespekTiere: Im Stall vom Bauern von nebenan\n    Kleingruppendiskussion: Wie kann die Stadt zu einer Situationsverbesserung beitragen? \n    14:45 – 15:00 Uhr\n    Kaffeepause \n    15:00 – 16:15 Uhr\n    Podiumsgespräch:\n    Städtische Ernährung der Zukunft – Visionen und Ansprüche an moderne  Lebensmittel-   versorgung in Wien\n    Moderation: Dagmar Tutschek\n    Diskussionsteilnehmer*innen: Felix Münster (Ernährungsrat Wien)\, DI.in Mag.a Marta Lopez Cifuentes (BOKU – Universität für Bodenkultur Wien\, Department für Nachhaltige Agrarsysteme – angefragt)\, Mag.a Martina Pluda (VIER PFOTEN Österreich) \n    17:00 – 19:00 Uhr\n    Abend Workshop (ca. 2 Stunden)\n    3-Stationen Workshop inkl. Samenkugeln selbst herstellen in der City Farm Augarten \nSamstag 19.10.2019 Der Wien-Tag (Nationalparkhaus Lobau\, 1220 Wien) \n    10:30 Uhr\n    Ankunft im Nationalparkhaus \n    10:30 – 13:00 Uhr\n    Status Quo städtischer Lebensmittelversorgung und Privat-Initiativen Wiens \n    Raum 1: Versorgung durch die Stadt\n    – Bernhard Kromp\, Bioforschung Austria: Biogarteln in Wien (angefragt)\n    – MA 22: Lebensmittelqualität beim Einkauf – Ökokauf (angefragt)\n    – Rüdiger Maresch\, Umweltsprecher Grüne Wien: Grüne Pläne für nachhaltige Lebensmittelbeschaffung der Stadt Wien \n    Raum 2: Selbstversorgung und Ernährung\n    – David Stanzel\, Verein Gartenpolylog: Der Gemeinschaftsgarten\n    – Sigrid Gerl\, Anna Kaucic-Huber\, Die LoBauerInnen: Gemeinsam solidarisch landwirtschaften in der Stadt\n    – Vertreter*in IG Foodcoop: How to Foodcoop\n    – Valerie Seitz\, Permakultur Austria: Selbstversorgung ohne Garten\n    – Solidarische Landwirtschaft Ackerschön (angefragt) \n    13:00 – 13:30 Uhr\n    Mittagessen \n    13:30 – 17:00 Uhr\n    Exkursionen\n    1: Open doors bei Foodcoop FC Floridsdorf (www.fc-floridsdorf.at)\n    2: Kleine Stadt Farm – Hofführung\n    3: Grätzlgärten in Wien – Gartenpolylog\n    4: Operation grüner Daumen – Dachgarten Windmühlgasse\n    5: Die LoBauerInnen – Feldexkursion\n    6: Die Stadtimker – Führung zu Bienenvölkern mitten in Wien (angefragt)\n    7: Biohof Nr. 5 – Hofführung \n    Ca. 17:00 Uhr\n    Gemütliches Come2gether in Kleine Stadt Farm mit Abendessen \n    Ca. 18:00 Uhr\n    Ende des Symposiums \nKostenlose Teilnahme – Anmeldung bitte via E-Mail an anmeldung(at)gbw.at (Bitte angeben\, an welchen Tagen du dabei sein wirst.) \nEiner Veranstaltung der Grünen Bildungswerkstatt Wien und der Green European Foundation \n
URL:https://www.strawanzerin.at/termin/politik-auf-dem-teller-das-symposium/
LOCATION:Architekturzentrum Wien\, Museumsplatz 1\, 1070 Wien\, 1070\, Österreich
CATEGORIES:Gratis,Ökologie,Tierschutz/Tierrechte,Vortrag/Symposium,Wien
ATTACH;FMTTYPE=image/jpeg:https://www.strawanzerin.at/wp-content/uploads/2019/10/Flyer_Symposium_1Seite_Final_A5.jpg
GEO:48.2026499;16.3591421
X-APPLE-STRUCTURED-LOCATION;VALUE=URI;X-ADDRESS=Architekturzentrum Wien Museumsplatz 1 1070 Wien 1070 Österreich;X-APPLE-RADIUS=500;X-TITLE=Museumsplatz 1:geo:16.3591421,48.2026499
END:VEVENT
END:VCALENDAR