BEGIN:VCALENDAR
VERSION:2.0
PRODID:-//STRAWANZERIN - ECPv4.9.5//NONSGML v1.0//EN
CALSCALE:GREGORIAN
METHOD:PUBLISH
X-WR-CALNAME:STRAWANZERIN
X-ORIGINAL-URL:https://www.strawanzerin.at
X-WR-CALDESC:Veranstaltungen im STRAWANZERIN
BEGIN:VTIMEZONE
TZID:"Europe/Helsinki"
BEGIN:DAYLIGHT
TZOFFSETFROM:+0200
TZOFFSETTO:+0300
TZNAME:EEST
DTSTART:20150329T010000
END:DAYLIGHT
BEGIN:STANDARD
TZOFFSETFROM:+0300
TZOFFSETTO:+0200
TZNAME:EET
DTSTART:20151025T010000
END:STANDARD
END:VTIMEZONE
BEGIN:VEVENT
DTSTART;TZID="Europe/Helsinki":20151022T190000
DTEND;TZID="Europe/Helsinki":20151022T210000
DTSTAMP:20260421T001946
CREATED:20151013T123118Z
LAST-MODIFIED:20151019T121921Z
UID:20848-1445540400-1445547600@www.strawanzerin.at
SUMMARY:Politik & Poesie. Literarisches Werkstattgespräch
DESCRIPTION:Frauen im Netz fremder Vorstellungen:\nIm Ringen um ideologische Vorherrschaft werden Frauen Lasten aufgebürdet\, Fesseln angelegt\, Entwicklungen versagt. In Notzeiten aber sind sie die Zuflucht der Kinder\, der Männer\, der Alten\, der Gesellschaft. \nDichterinnen und Dichter lesen Texte über das Fremdsein\, begleitet von Marwan Abado auf der Oud\, der orientalischen Kurzhalslaute. \n
URL:https://www.strawanzerin.at/termin/politik-poesie-literarisches-werkstattgespraech/
LOCATION:EGA\, Windmühlgasse 26\, Wien\, Wien\, 1060
CATEGORIES:Deutsch,Feminismus,Gratis,Literatur,Wien
ORGANIZER;CN="Ditha%20Brickwell":MAILTO:email@ditha-brickwell.eu
GEO:48.1985579;16.3556973
X-APPLE-STRUCTURED-LOCATION;VALUE=URI;X-ADDRESS=EGA Windmühlgasse 26 Wien Wien 1060;X-APPLE-RADIUS=500;X-TITLE=Windmühlgasse 26:geo:16.3556973,48.1985579
END:VEVENT
END:VCALENDAR