BEGIN:VCALENDAR
VERSION:2.0
PRODID:-//STRAWANZERIN - ECPv4.9.5//NONSGML v1.0//EN
CALSCALE:GREGORIAN
METHOD:PUBLISH
X-WR-CALNAME:STRAWANZERIN
X-ORIGINAL-URL:https://www.strawanzerin.at
X-WR-CALDESC:Veranstaltungen im STRAWANZERIN
BEGIN:VTIMEZONE
TZID:"Europe/Vienna"
BEGIN:DAYLIGHT
TZOFFSETFROM:+0100
TZOFFSETTO:+0200
TZNAME:CEST
DTSTART:20180325T010000
END:DAYLIGHT
BEGIN:STANDARD
TZOFFSETFROM:+0200
TZOFFSETTO:+0100
TZNAME:CET
DTSTART:20181028T010000
END:STANDARD
END:VTIMEZONE
BEGIN:VEVENT
DTSTART;TZID="Europe/Vienna":20181103T193000
DTEND;TZID="Europe/Vienna":20181103T220000
DTSTAMP:20260421T152943
CREATED:20180727T115414Z
LAST-MODIFIED:20180727T165932Z
UID:57832-1541273400-1541282400@www.strawanzerin.at
SUMMARY:Pomper\, Sadlo\, Turecek in: CAFE FREUDENHAUS
DESCRIPTION:Kabarett – Trio mit Claudia Sadlo\, Harald Pomper und Benjamin Turecek \nEin schummriges Café mitten in Wien. Bei der grantigen Wirtin Claudia Sadlo sind stets mehr oder weniger illustre Gäste und schrullige Kreaturen der Stadt anzutreffen. Der elitäre Schauspieler Benjamin Turecek ist ebenso häufiger im “Freudenhaus” als auf der Bühne zu sehen\, wie der hemdsärmelige Musiker Harald Pomper. Zu später Stunde und gut “betankt” diskutieren die Nachtanbeter über Gott und die Welt – wobei sie kein Klischee und kein Fettnäpfchen auslassen und einen skurrilen Einblick in die Seele Österreichs gewähren. Alltagssatire trifft Politkabarett trifft Schauspiel trifft Songwriting. \n
URL:https://www.strawanzerin.at/termin/pomper-sadlo-turecek-in-cafe-freudenhaus-3/
LOCATION:Theater am Alsergrund\, Löblichgasse 5-7\, Wien\, Wien\, 1090\, Österreich
CATEGORIES:ab 7,Theater/Kabarett
ATTACH;FMTTYPE=image/jpeg:https://www.strawanzerin.at/wp-content/uploads/2018/07/Plakatundflyerbild-2.jpg
ORGANIZER;CN="Theater%20am%20Alsergrund":MAILTO:office@alsergrund.com
GEO:48.2261214;16.3521696
X-APPLE-STRUCTURED-LOCATION;VALUE=URI;X-ADDRESS=Theater am Alsergrund Löblichgasse 5-7 Wien Wien 1090 Österreich;X-APPLE-RADIUS=500;X-TITLE=Löblichgasse 5-7:geo:16.3521696,48.2261214
END:VEVENT
END:VCALENDAR