BEGIN:VCALENDAR
VERSION:2.0
PRODID:-//STRAWANZERIN - ECPv4.9.5//NONSGML v1.0//EN
CALSCALE:GREGORIAN
METHOD:PUBLISH
X-WR-CALNAME:STRAWANZERIN
X-ORIGINAL-URL:https://www.strawanzerin.at
X-WR-CALDESC:Veranstaltungen im STRAWANZERIN
BEGIN:VTIMEZONE
TZID:"Europe/Vienna"
BEGIN:DAYLIGHT
TZOFFSETFROM:+0100
TZOFFSETTO:+0200
TZNAME:CEST
DTSTART:20180325T010000
END:DAYLIGHT
BEGIN:STANDARD
TZOFFSETFROM:+0200
TZOFFSETTO:+0100
TZNAME:CET
DTSTART:20181028T010000
END:STANDARD
END:VTIMEZONE
BEGIN:VEVENT
DTSTART;TZID="Europe/Vienna":20180117T080000
DTEND;TZID="Europe/Vienna":20180117T170000
DTSTAMP:20260422T140456
CREATED:20180117T062045Z
LAST-MODIFIED:20180117T135407Z
UID:51703-1516176000-1516208400@www.strawanzerin.at
SUMMARY:Pomper\, Wüdhoiz\, Hackl: OST 3 – Die SongwriterConnection
DESCRIPTION:Die Songwriter Harald Pomper\, „Wüdhoiz“ und Markus Hackl präsentieren einzeln und gemeinsam Lieder aus ihrem reichhaltigen Repertoire: Satirisch\, persönlich\, gesellschaftlich. \n
URL:https://www.strawanzerin.at/termin/pomper-wuedhoiz-hackl-ost-3-die-songwriterconnection/
LOCATION:Café Carina\, Josefstädter Straße 84 (U6 Stationsgebäude)\, Wien\, Wien\, 1080\, Österreich
CATEGORIES:freie Spende,Musik,Wien
GEO:48.2112571;16.3478654
X-APPLE-STRUCTURED-LOCATION;VALUE=URI;X-ADDRESS=Café Carina Josefstädter Straße 84 (U6 Stationsgebäude) Wien Wien 1080 Österreich;X-APPLE-RADIUS=500;X-TITLE=Josefstädter Straße 84 (U6 Stationsgebäude):geo:16.3478654,48.2112571
END:VEVENT
END:VCALENDAR