BEGIN:VCALENDAR
VERSION:2.0
PRODID:-//STRAWANZERIN - ECPv4.9.5//NONSGML v1.0//EN
CALSCALE:GREGORIAN
METHOD:PUBLISH
X-WR-CALNAME:STRAWANZERIN
X-ORIGINAL-URL:https://www.strawanzerin.at
X-WR-CALDESC:Veranstaltungen im STRAWANZERIN
BEGIN:VTIMEZONE
TZID:"Europe/Helsinki"
BEGIN:DAYLIGHT
TZOFFSETFROM:+0200
TZOFFSETTO:+0300
TZNAME:EEST
DTSTART:20160327T010000
END:DAYLIGHT
BEGIN:STANDARD
TZOFFSETFROM:+0300
TZOFFSETTO:+0200
TZNAME:EET
DTSTART:20161030T010000
END:STANDARD
END:VTIMEZONE
BEGIN:VEVENT
DTSTART;TZID="Europe/Helsinki":20160526T200000
DTEND;TZID="Europe/Helsinki":20160526T220000
DTSTAMP:20260422T135624
CREATED:20160517T084314Z
LAST-MODIFIED:20160517T084314Z
UID:29128-1464292800-1464300000@www.strawanzerin.at
SUMMARY:Pop-Up Magic im Tachles
DESCRIPTION:In jeder Ecke ein Magier. Zwei Stunden Non-Stop Zauberei vom Feinsten. Kein Dresscode\, viel Inhalt und jedes Mal einzigartig! \n
URL:https://www.strawanzerin.at/termin/pop-up-magic-im-tachles/
LOCATION:Cafe Tachles\, Karmeliterplatz 1\, 1020 Wien\, Wien\, 1020\, Österreich
CATEGORIES:ab 7,Deutsch,Sonstiges,Theater/Kabarett,Wien
ORGANIZER;CN="Pop-Up%20Magic%20by%20Magischer%20Klub%20Wien":MAILTO:karten@pop-up-magic.at
GEO:48.2155105;16.3798774
X-APPLE-STRUCTURED-LOCATION;VALUE=URI;X-ADDRESS=Cafe Tachles Karmeliterplatz 1 1020 Wien Wien 1020 Österreich;X-APPLE-RADIUS=500;X-TITLE=Karmeliterplatz 1:geo:16.3798774,48.2155105
END:VEVENT
END:VCALENDAR