BEGIN:VCALENDAR
VERSION:2.0
PRODID:-//STRAWANZERIN - ECPv4.9.5//NONSGML v1.0//EN
CALSCALE:GREGORIAN
METHOD:PUBLISH
X-WR-CALNAME:STRAWANZERIN
X-ORIGINAL-URL:https://www.strawanzerin.at
X-WR-CALDESC:Veranstaltungen im STRAWANZERIN
BEGIN:VTIMEZONE
TZID:"Europe/Helsinki"
BEGIN:DAYLIGHT
TZOFFSETFROM:+0200
TZOFFSETTO:+0300
TZNAME:EEST
DTSTART:20160327T010000
END:DAYLIGHT
BEGIN:STANDARD
TZOFFSETFROM:+0300
TZOFFSETTO:+0200
TZNAME:EET
DTSTART:20161030T010000
END:STANDARD
END:VTIMEZONE
BEGIN:VEVENT
DTSTART;TZID="Europe/Helsinki":20160304T190000
DTEND;TZID="Europe/Helsinki":20160304T210000
DTSTAMP:20260422T154909
CREATED:20151214T132319Z
LAST-MODIFIED:20151223T122823Z
UID:22538-1457118000-1457125200@www.strawanzerin.at
SUMMARY:Postkoloniale Strategien des Überlebens #4
DESCRIPTION:Vortrag \nDer in Entstehung begriffene Roman Harte Tropen von Daniel Romuald Bitouh sowie Texte weiterer afrikanischer Autor_innen geben Einblick in das Leben afrikanischer Marktfrauen und ihren Beitrag zum Fortkommen afrikanischer Gesellschaften. Die Veranstaltungsreihe Postkoloniale Strategien des Überlebens in Afrika und Europa beschäftigt sich mit der Kunst des Überlebens afrikanischer und europäischer Teile der Gesellschaften. \nDaniel Romuald Bitouh\, Literatur- und Kulturwissenschafter\, Leiter des Vereins AFRI-EUROTEXT \nIn Kooperation mit AFRI-EUROTEXT \n
URL:https://www.strawanzerin.at/termin/postkoloniale-strategien-des-ueberlebens-4/
LOCATION:Österreich
CATEGORIES:Gratis,Literatur,Wien
ORGANIZER;CN="Depot%20-%20Kunst%20und%20Diskussion":MAILTO:depot@depot.or.at
END:VEVENT
END:VCALENDAR