BEGIN:VCALENDAR
VERSION:2.0
PRODID:-//STRAWANZERIN - ECPv4.9.5//NONSGML v1.0//EN
CALSCALE:GREGORIAN
METHOD:PUBLISH
X-WR-CALNAME:STRAWANZERIN
X-ORIGINAL-URL:https://www.strawanzerin.at
X-WR-CALDESC:Veranstaltungen im STRAWANZERIN
BEGIN:VTIMEZONE
TZID:"Europe/Helsinki"
BEGIN:DAYLIGHT
TZOFFSETFROM:+0200
TZOFFSETTO:+0300
TZNAME:EEST
DTSTART:20160327T010000
END:DAYLIGHT
BEGIN:STANDARD
TZOFFSETFROM:+0300
TZOFFSETTO:+0200
TZNAME:EET
DTSTART:20161030T010000
END:STANDARD
END:VTIMEZONE
BEGIN:VEVENT
DTSTART;TZID="Europe/Helsinki":20160301T193000
DTEND;TZID="Europe/Helsinki":20160301T220000
DTSTAMP:20260423T215041
CREATED:20160210T133413Z
LAST-MODIFIED:20160210T135310Z
UID:24517-1456860600-1456869600@www.strawanzerin.at
SUMMARY:Postwachstum - Glück ohne Kerosin. Vortrag Niko Paech
DESCRIPTION:Die lang gehegte Hoffnung\, dass wirtschaftliches Wachstum durch technischen Fortschritt nachhaltig oder klimafreundlich gestaltet werden kann\, bröckelt. Der Klimawandel\, Schuldenkrisen\, die Verknappung jener Ressourcen („Peak Everything“)\, auf deren kostengünstiger Verfügbarkeit das industrielle Wohlstandsmodell bislang basierte\, sowie Befunde der Glücksforschung zeigen\, dass die Wachstumsparty vorbei ist. Der Umweltökonom Niko Paech\, ein radikaler Wachstumskritiker\, der auch die vielfach gepriesene „green economy“ in Frage stellt\, wird in seinem Vortrag die Möglichkeiten einer Postwachstumsökonomie ausloten. Letztere ist das Resultat eines prägnanten Rückbaus arbeitsteiliger\, geldbasierter und globalisierter Versorgungsmuster. Stattdessen werden Suffizienz\, moderne Subsistenz und kürzere Versorgungsketten wichtige Gestaltungsoptionen sein. Zudem ist die Postwachstumsökonomie durch Sesshaftigkeit gekennzeichnet\, also durch Glück ohne Kerosin.\nInfos: http://www.postwachstumsoekonomie.de/material/grundzuege/ \nZum Auftakt des Abends wird die Foto-Ausstellung „Ur-Wald“ von Matthias Schickhofer eröffnet. Der Fotograf\, Journalist und Umweltschützer erforschte für sein Buch „Unser Urwald. Die letzten wilden Wälder im Herzen Europas“\, erschienen im Brandstätter Verlag\, 77 Paradieswälder in zahlreichen Expeditionen\, und zeigt im Aktionsradius Wien daraus 15 Fineart-Prints auf Büttenpapier und Leinwand. Infos: www.schickhofer-photography.com \nAnmeldung erbeten unter 01/332 26 94\, office@aktionsradius.at \n
URL:https://www.strawanzerin.at/termin/postwachstum-glueck-ohne-kerosin-vortrag-niko-paech/
LOCATION:Aktionsradius Wien\, Gaußplatz 11\, Wien\, Wien\, 1200\, Österreich
ATTACH;FMTTYPE=image/jpeg:https://www.strawanzerin.at/wp-content/uploads/2016/02/2016-03-01_Paech-Schickhofer.jpg
GEO:48.2268813;16.3698922
X-APPLE-STRUCTURED-LOCATION;VALUE=URI;X-ADDRESS=Aktionsradius Wien Gaußplatz 11 Wien Wien 1200 Österreich;X-APPLE-RADIUS=500;X-TITLE=Gaußplatz 11:geo:16.3698922,48.2268813
END:VEVENT
END:VCALENDAR