BEGIN:VCALENDAR
VERSION:2.0
PRODID:-//STRAWANZERIN - ECPv4.9.5//NONSGML v1.0//EN
CALSCALE:GREGORIAN
METHOD:PUBLISH
X-WR-CALNAME:STRAWANZERIN
X-ORIGINAL-URL:https://www.strawanzerin.at
X-WR-CALDESC:Veranstaltungen im STRAWANZERIN
BEGIN:VTIMEZONE
TZID:"Europe/Helsinki"
BEGIN:DAYLIGHT
TZOFFSETFROM:+0200
TZOFFSETTO:+0300
TZNAME:EEST
DTSTART:20150329T010000
END:DAYLIGHT
BEGIN:STANDARD
TZOFFSETFROM:+0300
TZOFFSETTO:+0200
TZNAME:EET
DTSTART:20151025T010000
END:STANDARD
END:VTIMEZONE
BEGIN:VEVENT
DTSTART;TZID="Europe/Helsinki":20150314T190000
DTEND;TZID="Europe/Helsinki":20150314T210000
DTSTAMP:20260421T222524
CREATED:20150223T162439Z
LAST-MODIFIED:20150225T103610Z
UID:11522-1426359600-1426366800@www.strawanzerin.at
SUMMARY:Präsentation  Pappelblatt Frühling  - Nr.  4/2015
DESCRIPTION:Zeitschrift für Literatur\, Menschenrechte und Spiritualität\nCafé Schopenhauer\, Staudgasse 1\, Wien 18 \nLesende:\nP.P. Wiplinger\nChristian Schreibmüller\nDagmar Fischer (Lyreley)\nManfred Stangl \nVernissage / Ausstellung:\nBenedetto Fellin\nCarmen Wagner \nMusik:\nPavel Shalman – Violine\nBozidar „Boki“ Radenkovic – Gitarre\nspecial Guest:  RONJA* – Vocals \n
URL:https://www.strawanzerin.at/termin/praesentation-pappelblatt-fruehling-nr-42015/
CATEGORIES:Deutsch,Gratis,Kunst/Kultur,Literatur,Wien
ATTACH;FMTTYPE=image/jpeg:https://www.strawanzerin.at/wp-content/uploads/2015/02/Pappelblatt4gross.jpg
ORGANIZER;CN="Sonne%20und%20Mond":MAILTO:veranstaltungen@sonneundmond.at
END:VEVENT
END:VCALENDAR