BEGIN:VCALENDAR
VERSION:2.0
PRODID:-//STRAWANZERIN - ECPv4.9.5//NONSGML v1.0//EN
CALSCALE:GREGORIAN
METHOD:PUBLISH
X-WR-CALNAME:STRAWANZERIN
X-ORIGINAL-URL:https://www.strawanzerin.at
X-WR-CALDESC:Veranstaltungen im STRAWANZERIN
BEGIN:VTIMEZONE
TZID:"Europe/Vienna"
BEGIN:DAYLIGHT
TZOFFSETFROM:+0100
TZOFFSETTO:+0200
TZNAME:CEST
DTSTART:20260329T010000
END:DAYLIGHT
BEGIN:STANDARD
TZOFFSETFROM:+0200
TZOFFSETTO:+0100
TZNAME:CET
DTSTART:20261025T010000
END:STANDARD
END:VTIMEZONE
BEGIN:VEVENT
DTSTART;TZID="Europe/Vienna":20260212T200000
DTEND;TZID="Europe/Vienna":20260212T220000
DTSTAMP:20260422T041115
CREATED:20251217T134443Z
LAST-MODIFIED:20251217T134443Z
UID:111531-1770926400-1770933600@www.strawanzerin.at
SUMMARY:Premiere: RADIO GOO GOO
DESCRIPTION:RADIO GOO GOO\nVON JUDITH HUMER\nURAUFFÜHRUNG | EIGENPRODUKTION\nPREMIERE: DO\, 12. FEB. / 20:00\nWEITERE TERMINE: 14. | 17. | 18.* | 19. | 20. | 21. | 24. | 25.** |26. | 27. | 28. FEB. / 20:00\n* 19:00 Einführungsgespräch um 19:00 | ** Publikumsgespräch im Anschluss \nIn einer nahen Zukunft steht der „Tag der Tage“\, der buchstäblich letzte Tag der Menschheit\, kurz bevor. Die toxisch gewordene Liebesgeschichte zwischen Erde und Menschheit neigt sich ihrem Ende zu. Doch wie reagieren Einzelne auf die Gewissheit\, dass es nicht nur mit ihnen selbst\, sondern mit ihrer gesamten Art zu Ende geht? Dieser Frage widmet sich eine unermüdliche Radioreporterin des Senders „Radio Goo Goo“. Von Friedhöfen über Nagelstudios bis hin zu einer verwaisten Geburtsklinik bereist sie die unterschiedlichsten Orte\, stets begleitet von einem Countdown der besten Lieder.\nWas die Reporterin\, die Interviewpartner*innen und die Zuhörenden dabei eint\, sind sich selbst zugewiesene Arbeitsaufträge\, die wie fixe Ideen erscheinen – Bewältigungsstrategien\, um der verbleibenden Zeit Sinn zu verleihen. Während die Reporterin die letzten Dinge sammelt\, mit denen sich die Menschheit die Zeit vertreibt\, gelingt es ihr ganz nebenbei\, Menschen wieder um das Radio zu versammeln. Aus Nachbar*innen werden Schicksalsgemeinschaften und die Kraft von Gemeinschaft und Geschichtenerzählen tritt zu Tage.\nEntstanden ist RADIO GOO GOO im Drama Lab der Wiener Wortstaetten. Das Kosmos Theater als „Patentheater“ hat den Schreibprozess begleitet und bringt das Stück nun zur Uraufführung.\nREGIE: NEHLE DICK BÜHNE & KOSTÜM: MICHAEL LINDNER DRAMATURGIE: THERESA KRAUS REGIEASSISTENZ: MELANIE KLOS LICHTGESTALTUNG: DULCI JAN TON: KARL BÖRNER\nMIT: CLAUDIA KAINBERGER\, ALINE-SARAH KUNISCH\, JOHANNA ORSINI\, LUKA VLATKOVIĆ \n
URL:https://www.strawanzerin.at/termin/premiere-radio-goo-goo/
LOCATION:Kosmos Theater Wien\, Siebensterngasse 42-44\, Wien\, Wien\, 1070\, Österreich
CATEGORIES:Deutsch,Feminismus,Kunst/Kultur,Medien,Theater/Kabarett,Wien
ATTACH;FMTTYPE=image/jpeg:https://www.strawanzerin.at/wp-content/uploads/2025/12/RadioGooGoo_2_s__c_Michael-Lindner_.jpg
ORGANIZER;CN="Kosmos%20Theater%20Wien":MAILTO:office@kosmostheater.at
GEO:48.2023536;16.3513259
X-APPLE-STRUCTURED-LOCATION;VALUE=URI;X-ADDRESS=Kosmos Theater Wien Siebensterngasse 42-44 Wien Wien 1070 Österreich;X-APPLE-RADIUS=500;X-TITLE=Siebensterngasse 42-44:geo:16.3513259,48.2023536
END:VEVENT
END:VCALENDAR