BEGIN:VCALENDAR
VERSION:2.0
PRODID:-//STRAWANZERIN - ECPv4.9.5//NONSGML v1.0//EN
CALSCALE:GREGORIAN
METHOD:PUBLISH
X-WR-CALNAME:STRAWANZERIN
X-ORIGINAL-URL:https://www.strawanzerin.at
X-WR-CALDESC:Veranstaltungen im STRAWANZERIN
BEGIN:VTIMEZONE
TZID:"Europe/Vienna"
BEGIN:DAYLIGHT
TZOFFSETFROM:+0100
TZOFFSETTO:+0200
TZNAME:CEST
DTSTART:20210328T010000
END:DAYLIGHT
BEGIN:STANDARD
TZOFFSETFROM:+0200
TZOFFSETTO:+0100
TZNAME:CET
DTSTART:20211031T010000
END:STANDARD
END:VTIMEZONE
BEGIN:VEVENT
DTSTART;TZID="Europe/Vienna":20211004T200000
DTEND;TZID="Europe/Vienna":20211004T210000
DTSTAMP:20260422T152937
CREATED:20210830T080642Z
LAST-MODIFIED:20210901T121234Z
UID:79924-1633377600-1633381200@www.strawanzerin.at
SUMMARY:Prepared Beethoven
DESCRIPTION:Beethoven Stummfilm aus dem Jahr 1927 \nClara Frühstück live am Klavier & Elektronik von Samuel Schaab \nAn Originalschauplätzen in Wien gedreht\, zeichnet die Stummfilmbiografie aus dem Jahr 1927 einzelne Stationen aus Beethovens Leben nach. Clara Frühstück und Samuel Schaab geben dem historischen Biopic einen zeitgemäßen Ton. \n
URL:https://www.strawanzerin.at/termin/prepared-beethoven/
LOCATION:REAKTOR\, Geblergasse 40\, Wien\, Wien\, 1170\, Österreich
CATEGORIES:Film,Musik,Wien
ATTACH;FMTTYPE=image/jpeg:https://www.strawanzerin.at/wp-content/uploads/2021/08/image0.jpeg
END:VEVENT
END:VCALENDAR