BEGIN:VCALENDAR
VERSION:2.0
PRODID:-//STRAWANZERIN - ECPv4.9.5//NONSGML v1.0//EN
CALSCALE:GREGORIAN
METHOD:PUBLISH
X-WR-CALNAME:STRAWANZERIN
X-ORIGINAL-URL:https://www.strawanzerin.at
X-WR-CALDESC:Veranstaltungen im STRAWANZERIN
BEGIN:VTIMEZONE
TZID:"Europe/Helsinki"
BEGIN:DAYLIGHT
TZOFFSETFROM:+0200
TZOFFSETTO:+0300
TZNAME:EEST
DTSTART:20160327T010000
END:DAYLIGHT
BEGIN:STANDARD
TZOFFSETFROM:+0300
TZOFFSETTO:+0200
TZNAME:EET
DTSTART:20161030T010000
END:STANDARD
END:VTIMEZONE
BEGIN:VEVENT
DTSTART;TZID="Europe/Helsinki":20160510T200000
DTEND;TZID="Europe/Helsinki":20160510T220000
DTSTAMP:20260420T193205
CREATED:20160425T145155Z
LAST-MODIFIED:20160503T090537Z
UID:27093-1462910400-1462917600@www.strawanzerin.at
SUMMARY:punk rock live: Oi Polloi & Lab Rats
DESCRIPTION:Oi Polloi aus Edingburgh spielen seit den 80ern Hardcorepunk \, Lab Rats aus Manchester Akustikpunk mit Mandoline. \n
URL:https://www.strawanzerin.at/termin/punk-rock-live-oi-polloi-lab-rats/
LOCATION:Österreich
CATEGORIES:bis 7,Kunst/Kultur,Musik,Wien
END:VEVENT
END:VCALENDAR