BEGIN:VCALENDAR
VERSION:2.0
PRODID:-//STRAWANZERIN - ECPv4.9.5//NONSGML v1.0//EN
CALSCALE:GREGORIAN
METHOD:PUBLISH
X-WR-CALNAME:STRAWANZERIN
X-ORIGINAL-URL:https://www.strawanzerin.at
X-WR-CALDESC:Veranstaltungen im STRAWANZERIN
BEGIN:VTIMEZONE
TZID:"Europe/Vienna"
BEGIN:DAYLIGHT
TZOFFSETFROM:+0100
TZOFFSETTO:+0200
TZNAME:CEST
DTSTART:20180325T010000
END:DAYLIGHT
BEGIN:STANDARD
TZOFFSETFROM:+0200
TZOFFSETTO:+0100
TZNAME:CET
DTSTART:20181028T010000
END:STANDARD
END:VTIMEZONE
BEGIN:VEVENT
DTSTART;TZID="Europe/Vienna":20180429T150000
DTEND;TZID="Europe/Vienna":20180429T160000
DTSTAMP:20260420T193420
CREATED:20180406T220252Z
LAST-MODIFIED:20180410T083210Z
UID:54077-1525014000-1525017600@www.strawanzerin.at
SUMMARY:Puppentheater TABULA RASA präsentiert:  OLLI\, DAS ZAHNPUTZ - SCHWEIN
DESCRIPTION:Eine heiter-abenteuerliche Tiergeschichte für Leute\nab 3 Jahren\n Ob groß\, ob klein. Ob schnell\, ob langsam. Ob bissig oder schmusig. Olli\, das Zahnputz-Schwein\, besucht jedes Tier im Zoo\, das ein Gebiss sein Eigen nennt. Er scheut keine Mühe. Er kennt keine Furcht. Er bürstet\, schrubbt und putzt\, bis jedes Lächeln strahlt und jeder Zahn poliert ist. \nEin Stück nach dem gleichnamigen Buch von Markus C.Feurstein und Olaf Osten\, erschienen im G&G Verlag. \nSpiel: Susi Mutz und Laszlo Pinter\nDauer: 40 Minuten \nhttp://tabularasa.pssst.eu/olli \nPuppentheater TABULA RASA \nDas Puppentheater TABULA RASA wurde 1996 in Wien gegründet. Als mobile Bühne ist es seither gern gesehener Gast bei namhaften Puppentheaterfestivals\, in Theatern\, Kindergärten und Schulen im In- und Ausland. \nVerspielte Details in Figuren\, Ausstattung und Handlung sowie die Eigenheiten der „Puppenpersönlichkeiten“ würzen die erzählten Geschichten mit verschmitzter Lebendigkeit und feinsinnigem Humor. \nhttp://tabularasa.pssst.eu/ \n
URL:https://www.strawanzerin.at/termin/puppentheater-tabula-rasa-praesentiert-olli-das-zahnputz-schwein/
LOCATION:Theater Olé  – Clown- \, Komik- und Varietétheater\, Barmherzigengasse 18\, Wien\, Wien\, 1030\, Österreich
CATEGORIES:ab 7,Deutsch,Kinderkultur,Kunst/Kultur,Wien
ATTACH;FMTTYPE=image/jpeg:https://www.strawanzerin.at/wp-content/uploads/2018/04/Pressefoto_Olli_Medium.jpg
ORGANIZER;CN="Theater%20Ole-Clown-%20Komik%20-%20und%20Variet%C3%A9theater%20mitten%20in%20Wien":MAILTO:theater-ole@gmx.at
GEO:48.1962173;16.3940663
X-APPLE-STRUCTURED-LOCATION;VALUE=URI;X-ADDRESS=Theater Olé  – Clown-  Komik- und Varietétheater Barmherzigengasse 18 Wien Wien 1030 Österreich;X-APPLE-RADIUS=500;X-TITLE=Barmherzigengasse 18:geo:16.3940663,48.1962173
END:VEVENT
END:VCALENDAR