BEGIN:VCALENDAR
VERSION:2.0
PRODID:-//STRAWANZERIN - ECPv4.9.5//NONSGML v1.0//EN
CALSCALE:GREGORIAN
METHOD:PUBLISH
X-WR-CALNAME:STRAWANZERIN
X-ORIGINAL-URL:https://www.strawanzerin.at
X-WR-CALDESC:Veranstaltungen im STRAWANZERIN
BEGIN:VTIMEZONE
TZID:"Europe/Vienna"
BEGIN:DAYLIGHT
TZOFFSETFROM:+0100
TZOFFSETTO:+0200
TZNAME:CEST
DTSTART:20230326T010000
END:DAYLIGHT
BEGIN:STANDARD
TZOFFSETFROM:+0200
TZOFFSETTO:+0100
TZNAME:CET
DTSTART:20231029T010000
END:STANDARD
END:VTIMEZONE
BEGIN:VEVENT
DTSTART;TZID="Europe/Vienna":20230506T140000
DTEND;TZID="Europe/Vienna":20230506T170000
DTSTAMP:20260419T115210
CREATED:20230419T153819Z
LAST-MODIFIED:20230425T143932Z
UID:90937-1683381600-1683392400@www.strawanzerin.at
SUMMARY:Raddemo Wo bleibt die Bahn?
DESCRIPTION:Dort wo man in Wien mitten in dichten Stadtgebieten heute noch neue Autobahnen baut\, wurden vor wenigen Jahren intakte S-Bahn ausgedünnt oder ganz aufgelöst.\nDas Lobauforum und viele andere Initativen fordert die Stadt Wien und das Land Niederösterreich zu einem unverzüglichen Bausstopp aller Autobahnprojekte auf. Für ein soziales und lebenswertes Wien und Umland braucht ehestmöglich eine Intervallverdichtung auf der bestehenden S80\, eine Wiederaufnahme der Laaer Ostbahn-Fürhung sowie die Inbetriebsetzung eines S-Bahnverkehrs am Handelskai. \n
URL:https://www.strawanzerin.at/termin/raddemo-wo-bleibt-die-bahn/
CATEGORIES:Gratis,Kundgebung,Recht auf Stadt
ATTACH;FMTTYPE=image/jpeg:https://www.strawanzerin.at/wp-content/uploads/2023/04/flyer_a6_raddemo_06_05_6.jpg
END:VEVENT
END:VCALENDAR