BEGIN:VCALENDAR
VERSION:2.0
PRODID:-//STRAWANZERIN - ECPv4.9.5//NONSGML v1.0//EN
CALSCALE:GREGORIAN
METHOD:PUBLISH
X-WR-CALNAME:STRAWANZERIN
X-ORIGINAL-URL:https://www.strawanzerin.at
X-WR-CALDESC:Veranstaltungen im STRAWANZERIN
BEGIN:VTIMEZONE
TZID:"Europe/Vienna"
BEGIN:DAYLIGHT
TZOFFSETFROM:+0100
TZOFFSETTO:+0200
TZNAME:CEST
DTSTART:20210328T010000
END:DAYLIGHT
BEGIN:STANDARD
TZOFFSETFROM:+0200
TZOFFSETTO:+0100
TZNAME:CET
DTSTART:20211031T010000
END:STANDARD
END:VTIMEZONE
BEGIN:VEVENT
DTSTART;TZID="Europe/Vienna":20210524T080000
DTEND;TZID="Europe/Vienna":20210524T170000
DTSTAMP:20260420T221926
CREATED:20210524T113520Z
LAST-MODIFIED:20210526T092812Z
UID:77218-1621843200-1621875600@www.strawanzerin.at
SUMMARY:Ramona Kasheer...singt Lavant: Herzhandteller
DESCRIPTION:„Herzhandteller“ – so heißt das bereits 3. Album mit Lavant-Vertonungen von Ramona Kasheer. Die Musik bringt die Leidenschaft\, Naturverbundenheit\, Sinnlichkeit\, Schwermütigkeit und den Humor der Kärntner Dichterin Christine Lavant\, ihr ganzes Leben war ein durchgehender Ausnahmezustand\, hörbar nahe. Die Songs auf „Herzhandteller“ wirken zeitlos und brandaktuell. \n„Ich liebe die Gedichte von Christine Lavant! Meine Empathie und mein gelebtes Leben findet hier Resonanz und Hingabe. Ich fühle mich zutiefst und innigst angesprochen\, bewegt und inspiriert. Diese Berührungen mache ich durch Songs hörbar.“ \nRamona Kasheer – Gesang\, Gitarre\nRuei-Ran Wu „Algy“ – Bandoneon\nPamelia Stickney – Theremin  \n
URL:https://www.strawanzerin.at/termin/ramona-kasheer-singt-lavant-herzhandteller/
LOCATION:TAG – Theater an der Gumpendorfer Straße\, Gumpendorfer Straße 67\, Wien\, Wien\, 1060\, Österreich
CATEGORIES:Musik
ATTACH;FMTTYPE=image/jpeg:https://www.strawanzerin.at/wp-content/uploads/2021/05/Ramona_Kasheer_c_Robin_Gillard-scaled.jpg
ORGANIZER;CN="TAG%20-%20Theater%20an%20der%20Gumpendorfer%20Stra%C3%9Fe":MAILTO:karten@dastag.at
GEO:48.1954875;16.3512933
X-APPLE-STRUCTURED-LOCATION;VALUE=URI;X-ADDRESS=TAG – Theater an der Gumpendorfer Straße Gumpendorfer Straße 67 Wien Wien 1060 Österreich;X-APPLE-RADIUS=500;X-TITLE=Gumpendorfer Straße 67:geo:16.3512933,48.1954875
END:VEVENT
END:VCALENDAR