BEGIN:VCALENDAR
VERSION:2.0
PRODID:-//STRAWANZERIN - ECPv4.9.5//NONSGML v1.0//EN
CALSCALE:GREGORIAN
METHOD:PUBLISH
X-WR-CALNAME:STRAWANZERIN
X-ORIGINAL-URL:https://www.strawanzerin.at
X-WR-CALDESC:Veranstaltungen im STRAWANZERIN
BEGIN:VTIMEZONE
TZID:"Europe/Vienna"
BEGIN:DAYLIGHT
TZOFFSETFROM:+0100
TZOFFSETTO:+0200
TZNAME:CEST
DTSTART:20250330T010000
END:DAYLIGHT
BEGIN:STANDARD
TZOFFSETFROM:+0200
TZOFFSETTO:+0100
TZNAME:CET
DTSTART:20251026T010000
END:STANDARD
END:VTIMEZONE
BEGIN:VEVENT
DTSTART;TZID="Europe/Vienna":20250426T090000
DTEND;TZID="Europe/Vienna":20250426T130000
DTSTAMP:20260420T143219
CREATED:20250327T125901Z
LAST-MODIFIED:20250327T125901Z
UID:106936-1745658000-1745672400@www.strawanzerin.at
SUMMARY:Raritäten-Mini-Flohmarkt
DESCRIPTION:RARITÄTEN-MINI-FLOHMARKT im Gemeindesaal der Zwinglikirche.\nEs gibt:  Bekleidung\, Geschirr\, Bijouterie\, Kleines Feines\, Bilder. Viele dieser Dinge sind Besonderheiten\, Einzelstücke.  \n
URL:https://www.strawanzerin.at/termin/raritaeten-mini-flohmarkt-7/
LOCATION:Evang. Pfarrgemeinde H.B. Zwinglikirche 1150 Wien\, Schweglerstr. 39\, Schweglerstraße 39\, Wien\, Wien\, 1150\, Österreich
CATEGORIES:Flohmarkt
ORGANIZER;CN="Evangelische%20Pfarrgemeinde%20H.B.%20Wien%20West":MAILTO:office@zwinglikirche.at
END:VEVENT
END:VCALENDAR