BEGIN:VCALENDAR
VERSION:2.0
PRODID:-//STRAWANZERIN - ECPv4.9.5//NONSGML v1.0//EN
CALSCALE:GREGORIAN
METHOD:PUBLISH
X-WR-CALNAME:STRAWANZERIN
X-ORIGINAL-URL:https://www.strawanzerin.at
X-WR-CALDESC:Veranstaltungen im STRAWANZERIN
BEGIN:VTIMEZONE
TZID:"Europe/Vienna"
BEGIN:DAYLIGHT
TZOFFSETFROM:+0100
TZOFFSETTO:+0200
TZNAME:CEST
DTSTART:20240331T010000
END:DAYLIGHT
BEGIN:STANDARD
TZOFFSETFROM:+0200
TZOFFSETTO:+0100
TZNAME:CET
DTSTART:20241027T010000
END:STANDARD
END:VTIMEZONE
BEGIN:VEVENT
DTSTART;TZID="Europe/Vienna":20241129T140000
DTEND;TZID="Europe/Vienna":20241129T190000
DTSTAMP:20260420T182838
CREATED:20241025T155403Z
LAST-MODIFIED:20241025T155403Z
UID:104297-1732888800-1732906800@www.strawanzerin.at
SUMMARY:Rassismus - Diskriminierung - Koloniale Kontinuitäten
DESCRIPTION:An Universitäten und Hochschulen ist häufig die Rede von Internationalisierung und von der großen Bedeutung der Internationalität für das eigene institutionelle Selbstverständnis. Nur selten jedoch findet eine tiefergehende Auseinandersetzung mit der Frage statt\, in welcher Weise Studierende aus dem globalen Süden von Benachteiligung\, Diskriminierung und Rassismus betroffen sind – und welche Maßnahmen dagegen getroffen werden können. \nVor dem Hintergrund globaler (bildungs-)politischer Zusammenhänge wird der Fokus auf strukturelle Benachteiligungen und Marginalisierungsprozesse gelegt: vor allem auf repressive Zugangsregelungen\, formale Hürden und Ausschlüsse\, Eurozentrismus\, strukturellen Rassismus mit Differenzsetzungen und Defizitzuschreibungen sowie die Rolle von Sprache als Herrschaftsinstrument. \nAusgehend vom aktuellen Forschungs- und Diskussionsstand sollen Handlungsspielräume\, Verbesserungsstrategien und Praktiken erkundet werden\, die Lernprozesse anstoßen\, zur Bewusstseinsbildung beitragen und Impulse geben können – mit dem Ziel\, eine diskriminierungs- und rassismuskritische Institution zu gestalten und (strukturelle) Diskriminierung zu reduzieren. \nWir bitten um Anmeldung zur Veranstaltung unter anmeldung@oefse.at \n
URL:https://www.strawanzerin.at/termin/rassismus-diskriminierung-koloniale-kontinuitaeten/
LOCATION:C3 – Centrum für Internationale Entwicklung\, Sensengasse 3\, Wien\, Wien\, 1090\, Österreich
ATTACH;FMTTYPE=image/jpeg:https://www.strawanzerin.at/wp-content/uploads/2024/10/pic-29-11-quer.jpg
GEO:48.2197597;16.3534487
X-APPLE-STRUCTURED-LOCATION;VALUE=URI;X-ADDRESS=C3 – Centrum für Internationale Entwicklung Sensengasse 3 Wien Wien 1090 Österreich;X-APPLE-RADIUS=500;X-TITLE=Sensengasse 3:geo:16.3534487,48.2197597
END:VEVENT
END:VCALENDAR