BEGIN:VCALENDAR
VERSION:2.0
PRODID:-//STRAWANZERIN - ECPv4.9.5//NONSGML v1.0//EN
CALSCALE:GREGORIAN
METHOD:PUBLISH
X-WR-CALNAME:STRAWANZERIN
X-ORIGINAL-URL:https://www.strawanzerin.at
X-WR-CALDESC:Veranstaltungen im STRAWANZERIN
BEGIN:VTIMEZONE
TZID:"Europe/Vienna"
BEGIN:DAYLIGHT
TZOFFSETFROM:+0100
TZOFFSETTO:+0200
TZNAME:CEST
DTSTART:20210328T010000
END:DAYLIGHT
BEGIN:STANDARD
TZOFFSETFROM:+0200
TZOFFSETTO:+0100
TZNAME:CET
DTSTART:20211031T010000
END:STANDARD
END:VTIMEZONE
BEGIN:VEVENT
DTSTART;TZID="Europe/Vienna":20211022T170000
DTEND;TZID="Europe/Vienna":20211022T180000
DTSTAMP:20260421T211825
CREATED:20211013T063147Z
LAST-MODIFIED:20211013T063147Z
UID:81032-1634922000-1634925600@www.strawanzerin.at
SUMMARY:REAKTOR Potenziale #3 | Amniotic Antidote
DESCRIPTION:Die immersive Performance-Installation Amniotic Antidote wird Besucher*innen in ein Zerrbild einer Kuranstalt führen. Das dystopische Universum verquickt Wissenschaft und Emotion zu einem fantastischen Amalgam und spürt der Frage nach\, wie gesellschaftliche Polarisierung und Vereinzelung kuriert werden könnten. Das ikonographische Leitmotiv bildet dabei das Wasser\, das sowohl in der Mythologie als auch in modernen Weltmodellen seit jeher als Lebensursprung wie auch reinigendes Medium wiederkehrt. \nDas Konzept von Last Oblivion (Tina Damgaard (SE) & Elena Biner (CH)) wurde unter 235 Einreichungen von Künstler*innen aus über 50 Ländern im Rahmen des dritten Call for Concepts der REAKTOR Potenziale ausgewählt und wird in Zusammenarbeit mit Zosia Hulobowska (PL) entwickelt und aufgeführt. \n
URL:https://www.strawanzerin.at/termin/reaktor-potenziale-3-amniotic-antidote/2021-10-22/
LOCATION:Reaktor\, Geblergasse 40\, Wien\, 1170\, Österreich
CATEGORIES:Wien
ATTACH;FMTTYPE=image/jpeg:https://www.strawanzerin.at/wp-content/uploads/2021/10/AA_3-scaled.jpg
GEO:48.2163279;16.33578
X-APPLE-STRUCTURED-LOCATION;VALUE=URI;X-ADDRESS=Reaktor Geblergasse 40 Wien 1170 Österreich;X-APPLE-RADIUS=500;X-TITLE=Geblergasse 40:geo:16.33578,48.2163279
END:VEVENT
END:VCALENDAR