BEGIN:VCALENDAR
VERSION:2.0
PRODID:-//STRAWANZERIN - ECPv4.9.5//NONSGML v1.0//EN
CALSCALE:GREGORIAN
METHOD:PUBLISH
X-WR-CALNAME:STRAWANZERIN
X-ORIGINAL-URL:https://www.strawanzerin.at
X-WR-CALDESC:Veranstaltungen im STRAWANZERIN
BEGIN:VTIMEZONE
TZID:"Europe/Vienna"
BEGIN:DAYLIGHT
TZOFFSETFROM:+0100
TZOFFSETTO:+0200
TZNAME:CEST
DTSTART:20170326T010000
END:DAYLIGHT
BEGIN:STANDARD
TZOFFSETFROM:+0200
TZOFFSETTO:+0100
TZNAME:CET
DTSTART:20171029T010000
END:STANDARD
END:VTIMEZONE
BEGIN:VEVENT
DTSTART;TZID="Europe/Vienna":20171216T180000
DTEND;TZID="Europe/Vienna":20171216T220000
DTSTAMP:20260421T223715
CREATED:20171129T011121Z
LAST-MODIFIED:20171207T094207Z
UID:50380-1513447200-1513461600@www.strawanzerin.at
SUMMARY:Reflecting Topologies
DESCRIPTION:Paola Picazo (Mx/At):  Tanz + Grafik\nDoris Steinbichler (At/Mx): Sound + Visuals \neine live Performance mit experimenteller Musik\, Tanz\, Projektionen und ad hoc Zeichnungen \n
URL:https://www.strawanzerin.at/termin/reflecting-topologies/
LOCATION:Galerie Blütengasse 9\, Blütengasse 9\, Wien\, Wien\, 1150\, Österreich
CATEGORIES:Kunst/Kultur,Musik,Spanisch,Tanz
ATTACH;FMTTYPE=image/jpeg:https://www.strawanzerin.at/wp-content/uploads/2017/11/lego.jpg
ORGANIZER;CN="Bl%C3%BCtengasse%209":MAILTO:doris.steinbichler@gmail.com
GEO:48.2080567;16.3935191
X-APPLE-STRUCTURED-LOCATION;VALUE=URI;X-ADDRESS=Galerie Blütengasse 9 Blütengasse 9 Wien Wien 1150 Österreich;X-APPLE-RADIUS=500;X-TITLE=Blütengasse 9:geo:16.3935191,48.2080567
END:VEVENT
END:VCALENDAR