BEGIN:VCALENDAR
VERSION:2.0
PRODID:-//STRAWANZERIN - ECPv4.9.5//NONSGML v1.0//EN
CALSCALE:GREGORIAN
METHOD:PUBLISH
X-WR-CALNAME:STRAWANZERIN
X-ORIGINAL-URL:https://www.strawanzerin.at
X-WR-CALDESC:Veranstaltungen im STRAWANZERIN
BEGIN:VTIMEZONE
TZID:"Europe/Helsinki"
BEGIN:DAYLIGHT
TZOFFSETFROM:+0200
TZOFFSETTO:+0300
TZNAME:EEST
DTSTART:20150329T010000
END:DAYLIGHT
BEGIN:STANDARD
TZOFFSETFROM:+0300
TZOFFSETTO:+0200
TZNAME:EET
DTSTART:20151025T010000
END:STANDARD
END:VTIMEZONE
BEGIN:VEVENT
DTSTART;TZID="Europe/Helsinki":20150410T193000
DTEND;TZID="Europe/Helsinki":20150410T213000
DTSTAMP:20260420T032515
CREATED:20150216T122957Z
LAST-MODIFIED:20150216T131746Z
UID:11262-1428694200-1428701400@www.strawanzerin.at
SUMMARY:Regional wachsen - Eine Reise durch eine neue Landwirtschaft
DESCRIPTION:Woher kommt unser Essen? Was macht ein gutes Lebensmittel aus? Wie wird es hergestellt? Wie kann ich mich regional und saisonal ernähren? \nDer Film beschreibt verschiedene Projekte in der Region Berlin-Brandenburg – von Urban Gardening und Community Supported Agriculture (CSA)\, über die Bauerngärten bis hin zu „Mundraub“ – und zeichnet das Bild eines gesellschaftlichen Wandels hin zu einer modernen und nachhaltigen Landwirtschaft. Viele neue Ideen erwarten uns auf der Reise – lasst uns gemeinsam regional wachsen! \nFilmgespräch mit:\nPeter Hecht\, Bio Austria Salzburg (angefragt)\nHadwig Soyoye-Rothschädl\, Plattform TTIP stoppen Salzburg\nLukas Uitz\, Fairkehr und Foodcoop Sbg  \n
URL:https://www.strawanzerin.at/termin/regional-wachsen-eine-reise-durch-eine-neue-landwirtschaft-4/
CATEGORIES:Deutsch,Eintrittspreis,Film,Salzburg,Soziale Kämpfe
ATTACH;FMTTYPE=image/jpeg:https://www.strawanzerin.at/wp-content/uploads/2015/02/RegionalWachsen_web3.jpg
ORGANIZER;CN="Hunger.Macht.Profite.7":MAILTO:info[at]hungermachtprofite.at
END:VEVENT
END:VCALENDAR