BEGIN:VCALENDAR
VERSION:2.0
PRODID:-//STRAWANZERIN - ECPv4.9.5//NONSGML v1.0//EN
CALSCALE:GREGORIAN
METHOD:PUBLISH
X-WR-CALNAME:STRAWANZERIN
X-ORIGINAL-URL:https://www.strawanzerin.at
X-WR-CALDESC:Veranstaltungen im STRAWANZERIN
BEGIN:VTIMEZONE
TZID:"Europe/Vienna"
BEGIN:DAYLIGHT
TZOFFSETFROM:+0100
TZOFFSETTO:+0200
TZNAME:CEST
DTSTART:20250330T010000
END:DAYLIGHT
BEGIN:STANDARD
TZOFFSETFROM:+0200
TZOFFSETTO:+0100
TZNAME:CET
DTSTART:20251026T010000
END:STANDARD
END:VTIMEZONE
BEGIN:VEVENT
DTSTART;TZID="Europe/Vienna":20251121T193000
DTEND;TZID="Europe/Vienna":20251121T201500
DTSTAMP:20260421T083853
CREATED:20251127T115844Z
LAST-MODIFIED:20251127T115844Z
UID:111069-1763753400-1763756100@www.strawanzerin.at
SUMMARY:Requiem der Zuversicht - ein andächtiges Chorkonzert
DESCRIPTION: Am 16. November 1993 uraufgeführt ist das Requiem der Zuversicht eines von Stephan Kerschbaums frühesten Orchesterwerken. Zum Text von Veronika Reiner nimmt die Musik das Publikum auf eine Reise durch die eigenen Gefühle mit: die Trauer und die Wut\, aber auch die Dankbarkeit und Zuversicht.  \nMit diesem Album-Release Konzert zelebrieren der Tonvoll Chor und das Tonvoll Musical Ensemble\, unter der Leitung von Stephan Kerschbaum\, das 45-jährige Bestehen des Vereins TONVOLL.\nIm Anschluss laden wir Sie ein mit den Chören zu feiern und das Buffet zu plündern. \nMusikalische Leitung: Stephan Kerschbaum\nSolist*innen: Stephan Kerschbaum (Bariton). Stephanie Karner (Sopran)\nChöre: Tonvoll Chor\, Musical Ensemble Tonvoll \n
URL:https://www.strawanzerin.at/termin/requiem-der-zuversicht-ein-andaechtiges-chorkonzert/
LOCATION:Christuskirche\, Triesterstraße 1\, Wien\, Wien\, 1100\, Österreich
CATEGORIES:freie Spende,Kunst/Kultur,Musik,Wien
ATTACH;FMTTYPE=image/png:https://www.strawanzerin.at/wp-content/uploads/2025/11/Sujet_Requiem_Nov25.png
ORGANIZER;CN="Tonvoll":MAILTO:marina.polly@tonvoll.at 
END:VEVENT
END:VCALENDAR