BEGIN:VCALENDAR
VERSION:2.0
PRODID:-//STRAWANZERIN - ECPv4.9.5//NONSGML v1.0//EN
CALSCALE:GREGORIAN
METHOD:PUBLISH
X-WR-CALNAME:STRAWANZERIN
X-ORIGINAL-URL:https://www.strawanzerin.at
X-WR-CALDESC:Veranstaltungen im STRAWANZERIN
BEGIN:VTIMEZONE
TZID:"Europe/Helsinki"
BEGIN:DAYLIGHT
TZOFFSETFROM:+0200
TZOFFSETTO:+0300
TZNAME:EEST
DTSTART:20140330T010000
END:DAYLIGHT
BEGIN:STANDARD
TZOFFSETFROM:+0300
TZOFFSETTO:+0200
TZNAME:EET
DTSTART:20141026T010000
END:STANDARD
END:VTIMEZONE
BEGIN:VEVENT
DTSTART;TZID="Europe/Helsinki":20141009T200000
DTEND;TZID="Europe/Helsinki":20141009T212000
DTSTAMP:20260420T155234
CREATED:20140923T173749Z
LAST-MODIFIED:20141006T081841Z
UID:6987-1412884800-1412889600@www.strawanzerin.at
SUMMARY:REQUIEM
DESCRIPTION:REQUIEM\ngewidmet den Opfern der Flüchtlingskatastrophe von Lampedusa 2013\nLesung und Musik „Und vor uns liegt das Glück“ von Wolfgang Bauer\nmit Anna Nowak\, Peter J. Fuchs\, Vanja Fuchs\, Stephanie Grünberger und Kurt Raubal. \nMusikalische Begleitung\nUli Soyka Altblockflöte\nwww.panlau-x-records.com \nwww.requiem-lampedusa.net \n
URL:https://www.strawanzerin.at/termin/requiem/
LOCATION:Österreich
CATEGORIES:Deutsch,Gratis,Kunst/Kultur,Vortrag/Symposium,Wien
ORGANIZER;CN="Requiem%20Lampedusa":MAILTO:kurt.raubal@gmx.net
END:VEVENT
END:VCALENDAR