BEGIN:VCALENDAR
VERSION:2.0
PRODID:-//STRAWANZERIN - ECPv4.9.5//NONSGML v1.0//EN
CALSCALE:GREGORIAN
METHOD:PUBLISH
X-WR-CALNAME:STRAWANZERIN
X-ORIGINAL-URL:https://www.strawanzerin.at
X-WR-CALDESC:Veranstaltungen im STRAWANZERIN
BEGIN:VTIMEZONE
TZID:"Europe/Vienna"
BEGIN:DAYLIGHT
TZOFFSETFROM:+0100
TZOFFSETTO:+0200
TZNAME:CEST
DTSTART:20260329T010000
END:DAYLIGHT
BEGIN:STANDARD
TZOFFSETFROM:+0200
TZOFFSETTO:+0100
TZNAME:CET
DTSTART:20261025T010000
END:STANDARD
END:VTIMEZONE
BEGIN:VEVENT
DTSTART;TZID="Europe/Vienna":20260306T190000
DTEND;TZID="Europe/Vienna":20260306T210000
DTSTAMP:20260420T083031
CREATED:20260108T094601Z
LAST-MODIFIED:20260108T094601Z
UID:111631-1772823600-1772830800@www.strawanzerin.at
SUMMARY:Resonanzen des Herzens
DESCRIPTION:Zwischen deutschen Liedern und japanischen Gesängen \nMiyuki Anraku\, Sopran\nMariko Ichikawa\, Klavier \nIm Vorfrühling\, wenn das Licht wärmer wird und sich alles dem Frühling entgegen öffnet\, erwacht auch die Musik. In diesem Programm begegnen sich deutsche Lieder von Schumann\, Mahler\, R. Strauss und Berg mit japanischen Kunstliedern von Kōsaku Yamada und Tōru Takemitsu. Liebe\, Kindheit und der Wandel der Jahreszeiten sind ihre stillen Themen.\nDie Sopranistin Miyuki Anraku ist seit über dreißig Jahren eng mit Wien verbunden. Zweimal im Jahr kehrt sie in die Stadt zurück\, um ihre Kunst zu vertiefen und Inspiration aus der reichen Wiener Musiktradition zu schöpfen. Bisher hat sie drei Liederabende hier gestaltet und darüber hinaus zahlreiche Konzerte in Japan gegeben.\nDiesmal lädt sie zu einem Abend ein\, in dem deutsche Romantik und japanische Empfindsamkeit in einen leisen Dialog treten – ein Moment des Vorfrühlings\, in dem Musik Kulturen verbindet. \nfreiwillige Spende / Anmeldung erforderlich \nFotos © M. Anraku/M. Ichikawa \n
URL:https://www.strawanzerin.at/termin/resonanzen-des-herzens/
LOCATION:Haus Hofmannsthal\, Reisnerstraße 37\, Wien\, Wien\, 1030\, Österreich
CATEGORIES:Deutsch,freie Spende,Kunst/Kultur,Musik
ATTACH;FMTTYPE=image/jpeg:https://www.strawanzerin.at/wp-content/uploads/2025/12/Miyuki-Anraku-c-M.-Anraku-Mariko-Ichikawa-c-M.-Ichikawa-klein.jpg
ORGANIZER;CN="Haus%20Hofmannsthal":MAILTO:office@haus-hofmannsthal.at
GEO:48.1989376;16.3840765
X-APPLE-STRUCTURED-LOCATION;VALUE=URI;X-ADDRESS=Haus Hofmannsthal Reisnerstraße 37 Wien Wien 1030 Österreich;X-APPLE-RADIUS=500;X-TITLE=Reisnerstraße 37:geo:16.3840765,48.1989376
END:VEVENT
END:VCALENDAR