BEGIN:VCALENDAR
VERSION:2.0
PRODID:-//STRAWANZERIN - ECPv4.9.5//NONSGML v1.0//EN
CALSCALE:GREGORIAN
METHOD:PUBLISH
X-WR-CALNAME:STRAWANZERIN
X-ORIGINAL-URL:https://www.strawanzerin.at
X-WR-CALDESC:Veranstaltungen im STRAWANZERIN
BEGIN:VTIMEZONE
TZID:"Europe/Vienna"
BEGIN:DAYLIGHT
TZOFFSETFROM:+0100
TZOFFSETTO:+0200
TZNAME:CEST
DTSTART:20250330T010000
END:DAYLIGHT
BEGIN:STANDARD
TZOFFSETFROM:+0200
TZOFFSETTO:+0100
TZNAME:CET
DTSTART:20251026T010000
END:STANDARD
END:VTIMEZONE
BEGIN:VEVENT
DTSTART;TZID="Europe/Vienna":20251109T110000
DTEND;TZID="Europe/Vienna":20251109T140000
DTSTAMP:20260420T114844
CREATED:20250227T130914Z
LAST-MODIFIED:20250227T130914Z
UID:106291-1762686000-1762696800@www.strawanzerin.at
SUMMARY:Riesen Kinderflohmarkt
DESCRIPTION:* ALLWETTERFLOHMARKT – bei über 200 Indoor Tischen ist bei jedem Wetter zu jeder Jahreszeit für jeden ein Schnäppchen dabei 😉\n* Alles fürs Baby bis zum Teenager:\nBaby–/Kinderbekleidung\, Schuhe\, Babyausstattung\, Spielzeug\, Brettspiele\, Kinderbücher\, Spielekonsolen und Zubehör\, Schulartikel\, Kindersportartikel\, Dreiräder …\n* GRATIS Eintritt\n* Kostenlos parken kannst Du in den Gassen rund um die VHS Floridsdorf\n* sehr gute öffentliche Verkehrsanbindung —Haltestelle/Bahnhof Floridsdorf ist nur 3 Gehminuten entfernt\n* familienfreundliche Öffnungszeit 11-14 Uhr\n* bewachte Besuchergarderobe – pro Haken € 1\,50\nRoller\, Einkaufstrolleys und „andere Fahrzeuge“ dürfen NICHT in die Säle der VHS. Um € 1\,50 kannst Du sie in der bewachten Besuchergarderobe parken.\n* GRATIS Kinderwagenparkplatz in der bewachten Besuchergarderobe – KINDERWAGENVERBOT in allen Sälen der VHS (Hausordnung)\n* diskrete Stillecke\n* WC-Anlagen inkl. Wickelraum\n* Naschecke – kleine Snacks für zwischendurch\n* Hunde dürfen nicht in die Säle der VHS (Hausordnung) \nInfos\, wenn Du VERKAUFEN möchtest:\ndie Gebühr für einen Verkaufsplatz (Tisch ca. 120×60 cm) beträgt ab € 22\,00 bei Buchung bis 2 Monate vor dem Termin\, danach ab € 24\,00. Tische und Sessel sind schon aufgestellt und müssen nicht mitgebracht werden. Einlass für alle\, die einen Tisch gebucht haben: 10:00 Uhr.\nSuche Dir Deinen Wunschtisch aus und buche gleich unter www.riesenflohmarkt.wien. \nÄnderungen vorbehalten – aktuelle Infos findest Du auf unserer Webseite www.riesenflohmarkt.wien. \n
URL:https://www.strawanzerin.at/termin/riesen-kinderflohmarkt-2/2025-11-09/
LOCATION:VHS Floridsdorf\, Angerer Str. 14\, Wien\, Wien\, 1210\, Österreich
CATEGORIES:Flohmarkt
ATTACH;FMTTYPE=image/png:https://www.strawanzerin.at/wp-content/uploads/2025/02/Riesen-Kinderflohmarkt.png
ORGANIZER;CN="Eventhasi%20OG":MAILTO:info@riesenflohmarkt.wien
END:VEVENT
END:VCALENDAR