BEGIN:VCALENDAR
VERSION:2.0
PRODID:-//STRAWANZERIN - ECPv4.9.5//NONSGML v1.0//EN
CALSCALE:GREGORIAN
METHOD:PUBLISH
X-WR-CALNAME:STRAWANZERIN
X-ORIGINAL-URL:https://www.strawanzerin.at
X-WR-CALDESC:Veranstaltungen im STRAWANZERIN
BEGIN:VTIMEZONE
TZID:"Europe/Paris"
BEGIN:DAYLIGHT
TZOFFSETFROM:+0100
TZOFFSETTO:+0200
TZNAME:CEST
DTSTART:20150329T010000
END:DAYLIGHT
BEGIN:STANDARD
TZOFFSETFROM:+0200
TZOFFSETTO:+0100
TZNAME:CET
DTSTART:20151025T010000
END:STANDARD
END:VTIMEZONE
BEGIN:VEVENT
DTSTART;TZID="Europe/Paris":20151009T190000
DTEND;TZID="Europe/Paris":20151009T210000
DTSTAMP:20260420T131543
CREATED:20150828T092227Z
LAST-MODIFIED:20150828T095718Z
UID:19476-1444417200-1444424400@www.strawanzerin.at
SUMMARY:RIP\, BIP! Wirtschaft & Wohlstand anders denken
DESCRIPTION: Zu Gast: Lorenzo Fioramonti\, Autor von Gross Domestic Problem & How Numbers Rule the World (beide kürzlich bei Zed Books erschienen)\, Direktor des GovInn Centre for the Study of Governance Innovation der Universität Pretoria\, Politologe\, Entwicklungsökonom\, Kritiker des herrschenden Wohlstands- & Wachstumsmodells & umtriebiger Visionär einer „Welt jenseits des BIP“. \nLorenzo Fioramonti wird an diesem Abend in Graz (erstmals in AT) über die globale Problematik des BIP-Fetischismus referieren\, darüber hinaus aber auch eine Vision einer zukunftsfähigen Wirtschaftspolitik entwerfen\, in der alternative\, demokratisch legitimierte\, an menschlichen Befürfnissen und ökologischer Nachhaltigkeit orientierte Zielgrößen ihren Platz haben werden. \nDer Abend könnte für alle Menschen sehr spannend sein\, die an BIP-Kritik\, Entwicklungspolitik\, wirtschaftlichen Alternativen\, Fragen der Wohlstandsmesung &c. interessiert sind — Details & Rahmenprogramm (öst. Erstaufführung der ital. Filmdoku „Presi per il PIL“\, in etwa „Verarscht vom BIP“) in Planung! \nMelden Sie sich jetzt schon an — unter ripbip[AT]imzuwi.org & wir halten Sie auf dem Laufenden! \n
URL:https://www.strawanzerin.at/termin/rip-bip-wirtschaft-wohlstand-anders-denken/
LOCATION:Universitätszentrum Wall\, Merangasse 70\, Graz\, 8010\, Österreich
CATEGORIES:Deutsch,Gratis,Soziale Kämpfe,Steiermark,Vortrag/Symposium
GEO:47.0706335;15.4574902
X-APPLE-STRUCTURED-LOCATION;VALUE=URI;X-ADDRESS=Universitätszentrum Wall Merangasse 70 Graz 8010 Österreich;X-APPLE-RADIUS=500;X-TITLE=Merangasse 70:geo:15.4574902,47.0706335
END:VEVENT
END:VCALENDAR