BEGIN:VCALENDAR
VERSION:2.0
PRODID:-//STRAWANZERIN - ECPv4.9.5//NONSGML v1.0//EN
CALSCALE:GREGORIAN
METHOD:PUBLISH
X-WR-CALNAME:STRAWANZERIN
X-ORIGINAL-URL:https://www.strawanzerin.at
X-WR-CALDESC:Veranstaltungen im STRAWANZERIN
BEGIN:VTIMEZONE
TZID:"Europe/Helsinki"
BEGIN:DAYLIGHT
TZOFFSETFROM:+0200
TZOFFSETTO:+0300
TZNAME:EEST
DTSTART:20150329T010000
END:DAYLIGHT
BEGIN:STANDARD
TZOFFSETFROM:+0300
TZOFFSETTO:+0200
TZNAME:EET
DTSTART:20151025T010000
END:STANDARD
END:VTIMEZONE
BEGIN:VEVENT
DTSTART;TZID="Europe/Helsinki":20150413T190000
DTEND;TZID="Europe/Helsinki":20150413T210000
DTSTAMP:20260422T140709
CREATED:20150327T145228Z
LAST-MODIFIED:20150413T161816Z
UID:12735-1428951600-1428958800@www.strawanzerin.at
SUMMARY:Robert Streibel liest aus seinem Roman "April in Stein"
DESCRIPTION: „April in Stein“ erzählt vom (Über-)Leben im Zuchthaus\, von Zwangsarbeit und politischem Widerstand\, vor allem aber erstmals vom Massenmord in Krems. \nWährend der NS-Gewaltherrschaft war das Zuchthaus in Krems-Stein das größte der „Ostmark“. Hier wurden Regimegegner eingesperrt – Kommunisten und „Saboteure“\, Widerständler aus Österreich und Osteuropa. Am 6. April 1945 öffnet der Gefängnisdirektor angesichts der vorrückenden Roten Armee die Tore der Haftanstalt\, doch SS\, SA und lokale Bevölkerung jagen und ermorden Hunderte politische Häftlinge in einem beispiellosen Massaker. Einigen gelingt die Flucht\, einige überleben versteckt im Keller\, und ihre Berichte bilden die Grundlage von Robert Streibels vielstimmigem Panorama. \n
URL:https://www.strawanzerin.at/termin/robert-streibel-liest-aus-seinem-roman-april-in-stein/
LOCATION:Österreich
CATEGORIES:Deutsch,Gratis,Kunst/Kultur,Literatur,Wien
ATTACH;FMTTYPE=image/jpeg:https://www.strawanzerin.at/wp-content/uploads/2015/03/cover_1750_l.jpg
END:VEVENT
END:VCALENDAR