BEGIN:VCALENDAR
VERSION:2.0
PRODID:-//STRAWANZERIN - ECPv4.9.5//NONSGML v1.0//EN
CALSCALE:GREGORIAN
METHOD:PUBLISH
X-WR-CALNAME:STRAWANZERIN
X-ORIGINAL-URL:https://www.strawanzerin.at
X-WR-CALDESC:Veranstaltungen im STRAWANZERIN
BEGIN:VTIMEZONE
TZID:"Europe/Vienna"
BEGIN:DAYLIGHT
TZOFFSETFROM:+0100
TZOFFSETTO:+0200
TZNAME:CEST
DTSTART:20170326T010000
END:DAYLIGHT
BEGIN:STANDARD
TZOFFSETFROM:+0200
TZOFFSETTO:+0100
TZNAME:CET
DTSTART:20171029T010000
END:STANDARD
END:VTIMEZONE
BEGIN:VEVENT
DTSTART;TZID="Europe/Vienna":20171123T190000
DTEND;TZID="Europe/Vienna":20171123T190000
DTSTAMP:20260423T160621
CREATED:20171113T093709Z
LAST-MODIFIED:20171113T093709Z
UID:49235-1511463600-1511463600@www.strawanzerin.at
SUMMARY:Roböxotica 2017 - The Romantic Cyborg
DESCRIPTION:Fest der Technik von monochrom\, Shifz und das Bureau für Philosophie! \nMit der Roboexotica wird die fröhliche Koexistenz von Mensch und Maschine für ein Wochenende lang Wien beleben! Bei diesem Fest der Technik steht der Mensch im Zentrum\, während die Roboter sich auf ihren ursprünglichen Zweck besinnen: den Menschen ein angenehmeres Leben zu bereiten. Mit der Roboexotica zeigen monochrom\, SHIFZ und das Bureau für Philosophie seit 1999 auf spielerische Weise\, dass es nicht in der Natur des Roboters liegt\, den Menschen zu übervorteilen und auszubooten. Wenn das innige Miteinander von Mensch und Maschine heute gestört ist\, liegt das für die Künstlerinnen und Künstler vielmehr an Verwertungsinteressen\, Produktionsdruck und Überwachungspolitik. Die Roboter im Reaktor beweisen das auf den ersten Blick: Einer schenkt Schnäpse aus\, einer bereitet Palatschinken zu\, bei einem anderen gibt es Miso-Suppe\, die übrigen mixen Cocktails – manchmal tollpatschig\, aber stets zu Diensten und kulinarisch auf den Punkt! \n
URL:https://www.strawanzerin.at/termin/roboexotica-2017-the-romantic-cyborg/2017-11-23/
LOCATION:Reaktor\, Geblergasse 40\, Wien\, 1170\, Österreich
CATEGORIES:Ausstellung,Fest
ATTACH;FMTTYPE=image/jpeg:https://www.strawanzerin.at/wp-content/uploads/2017/11/guzman_frei_klein.jpg
ORGANIZER;CN="monochrom":MAILTO:gf
GEO:48.2163279;16.33578
X-APPLE-STRUCTURED-LOCATION;VALUE=URI;X-ADDRESS=Reaktor Geblergasse 40 Wien 1170 Österreich;X-APPLE-RADIUS=500;X-TITLE=Geblergasse 40:geo:16.33578,48.2163279
END:VEVENT
END:VCALENDAR