BEGIN:VCALENDAR
VERSION:2.0
PRODID:-//STRAWANZERIN - ECPv4.9.5//NONSGML v1.0//EN
CALSCALE:GREGORIAN
METHOD:PUBLISH
X-WR-CALNAME:STRAWANZERIN
X-ORIGINAL-URL:https://www.strawanzerin.at
X-WR-CALDESC:Veranstaltungen im STRAWANZERIN
BEGIN:VTIMEZONE
TZID:"Europe/Vienna"
BEGIN:DAYLIGHT
TZOFFSETFROM:+0100
TZOFFSETTO:+0200
TZNAME:CEST
DTSTART:20220327T010000
END:DAYLIGHT
BEGIN:STANDARD
TZOFFSETFROM:+0200
TZOFFSETTO:+0100
TZNAME:CET
DTSTART:20221030T010000
END:STANDARD
END:VTIMEZONE
BEGIN:VEVENT
DTSTART;TZID="Europe/Vienna":20220112T193000
DTEND;TZID="Europe/Vienna":20220112T204000
DTSTAMP:20260422T092842
CREATED:20211215T165255Z
LAST-MODIFIED:20211215T165255Z
UID:82141-1642015800-1642020000@www.strawanzerin.at
SUMMARY:ROCKY! Die Rückkehr des Verlierers
DESCRIPTION:Ein gut gekleideter Mann betritt die Bühne\, sympathisch\, ein Gewinner-Typ mit Gewinner-Lächeln. Er ist fasziniert von der Geschichte von Rocky\, wir summen mit ihm die Titelmelodie und erinnern uns gemeinsam an diese Story\, denn wir lieben sie. Vom weißen Mann der Unterschicht\, der genug davon hat\, immer übergangen und ausgelacht zu werden. Er will eine Chance bekommen\, wieder sein Selbstvertrauen und einen Platz auf dem Podest zu erobern. Der ‚kleine Mann‘ mit seinen kleinen Sorgen schlägt zurück und durchlöchert mit einem rechten Haken die stereotype Darstellung des Verlierers. \nROCKY! Die Rückkehr des Verlierers\nvon Tue Biering\nDeutschsprachige Erstaufführung\nEine Produktion der Juggernauten in Kooperation mit WERK X- Petersplatz\nInszenierung: Hans-Peter Kellner \nWas aber\, wenn alle Rockys sich gegen die kulturelle Elite erheben\, wenn deren Werte besiegt werden sollen? Wenn wir im Schlachthaus am Haken hängen und die Rockys auf uns einschlagen? Rocky ist nicht eine einzelne Person\, sondern repräsentiert ein Spektrum der Rechten und spiegelt ein dringliches Demokratieproblem wider: Auf welche Art (oder überhaupt?) sollen wir mit jenen kommunizieren\, die andere Wertvorstellungen haben als wir? \nDas in Dänemark mehrfach preisgekrönte Stück ist eine Reise ins Innere der Gesellschaft und stellt die Geschichte vom mittelmäßigen Boxer in einen heutigen Kontext. \nIm Anschluss an die Vorstellung am Mittwoch\, 19.01.2022\, findet ein Publikumsgespräch statt. \nMit: Andreas Patton\nSounddesign: Edgar Aichinger\nAusstattung: Sandra Moser\nRegiehospitanz: Helene Hütter\, Ines Kaiser\nAufführungsrechte: Österreichischer Bühnenverlag Kaiser & Co. Ges.m.b.H. \nFördergeber*innen: Stadt Wien | Kultur\, Bundesministerium Kunst\, Kultur\, öffentlicher Dienst und Sport\, Danish Arts Foundation\, Zukunftsfonds der Republik Österreich \n
URL:https://www.strawanzerin.at/termin/rocky-die-rueckkehr-des-verlierers/2022-01-12/
LOCATION:WERK X-Petersplatz\, Petersplatz 1\, Wien\, Wien\, 1010\, Österreich
CATEGORIES:Theater/Kabarett
ATTACH;FMTTYPE=image/jpeg:https://www.strawanzerin.at/wp-content/uploads/2021/12/Rocky-08731-Alexander-Gotter.jpg
ORGANIZER;CN="WERK%20X-Petersplatz":MAILTO:reservierung@werk-x-petersplatz.at
END:VEVENT
END:VCALENDAR