BEGIN:VCALENDAR
VERSION:2.0
PRODID:-//STRAWANZERIN - ECPv4.9.5//NONSGML v1.0//EN
CALSCALE:GREGORIAN
METHOD:PUBLISH
X-WR-CALNAME:STRAWANZERIN
X-ORIGINAL-URL:https://www.strawanzerin.at
X-WR-CALDESC:Veranstaltungen im STRAWANZERIN
BEGIN:VTIMEZONE
TZID:"Europe/Vienna"
BEGIN:DAYLIGHT
TZOFFSETFROM:+0100
TZOFFSETTO:+0200
TZNAME:CEST
DTSTART:20250330T010000
END:DAYLIGHT
BEGIN:STANDARD
TZOFFSETFROM:+0200
TZOFFSETTO:+0100
TZNAME:CET
DTSTART:20251026T010000
END:STANDARD
END:VTIMEZONE
BEGIN:VEVENT
DTSTART;TZID="Europe/Vienna":20251119T190000
DTEND;TZID="Europe/Vienna":20251119T210000
DTSTAMP:20260421T071213
CREATED:20251023T114911Z
LAST-MODIFIED:20251023T114911Z
UID:110533-1763578800-1763586000@www.strawanzerin.at
SUMMARY:Romantisches aus Böhmen & Mähren
DESCRIPTION:Musik von Dvořák und Smetana im Palais Pálffy \nDas Ensemble Lashon mit Elisabeth Margraf (Sopran)\, Astrid Mathyshek (Mezzosopran) und Karl Macourek (Klavier) gibt am Mittwoch\, dem 19. November um 19 Uhr im Festsaal des Palais Pálffy Duette und Werke von Antonín Dvořák und Friedrich Smetana zum Besten. Reservierungen unter Telefon: +43 664  9310069. \nZeit:\nMittwoch\, 19. November 2025\, 19 Uhr (Einlass ab 18 Uhr) \nOrt:\nPalais Pálffy\, Josefsplatz 6/1. Stock\, 1010 Wien \nMusikbeitrag:\n25 Euro (inklusive Getränk vor/in der Pause) \nBild: Elisabeth Margraf\, Karl Macourek und Astrid Mathyshek musizieren im Palais Pálffy\, Foto/© Ensemble Lashon \n
URL:https://www.strawanzerin.at/termin/romantisches-aus-boehmen-maehren/
LOCATION:Palais Palffy\, Josefsplatz 6\, Wien\, Wien\, 1010\, Österreich
CATEGORIES:ab 7,Musik,Wien
ATTACH;FMTTYPE=image/jpeg:https://www.strawanzerin.at/wp-content/uploads/2025/10/EnsembleLashon.jpg
GEO:48.2062884;16.3677519
X-APPLE-STRUCTURED-LOCATION;VALUE=URI;X-ADDRESS=Palais Palffy Josefsplatz 6 Wien Wien 1010 Österreich;X-APPLE-RADIUS=500;X-TITLE=Josefsplatz 6:geo:16.3677519,48.2062884
END:VEVENT
END:VCALENDAR