BEGIN:VCALENDAR
VERSION:2.0
PRODID:-//STRAWANZERIN - ECPv4.9.5//NONSGML v1.0//EN
CALSCALE:GREGORIAN
METHOD:PUBLISH
X-WR-CALNAME:STRAWANZERIN
X-ORIGINAL-URL:https://www.strawanzerin.at
X-WR-CALDESC:Veranstaltungen im STRAWANZERIN
BEGIN:VTIMEZONE
TZID:"Europe/Vienna"
BEGIN:DAYLIGHT
TZOFFSETFROM:+0100
TZOFFSETTO:+0200
TZNAME:CEST
DTSTART:20240331T010000
END:DAYLIGHT
BEGIN:STANDARD
TZOFFSETFROM:+0200
TZOFFSETTO:+0100
TZNAME:CET
DTSTART:20241027T010000
END:STANDARD
END:VTIMEZONE
BEGIN:VEVENT
DTSTART;TZID="Europe/Vienna":20240706T193000
DTEND;TZID="Europe/Vienna":20240706T223000
DTSTAMP:20260422T024705
CREATED:20240603T114338Z
LAST-MODIFIED:20240603T114338Z
UID:99873-1720294200-1720305000@www.strawanzerin.at
SUMMARY:»Romeo & Juliet« verlieben sich beim Sommertheater in Pötzleinsdorf  
DESCRIPTION:Verona liegt in Währing: Anlässlich des 460. Geburtstages von William Shakespeare spielt die wohl berühmteste Liebesgeschichte von 6. bis 20. Juli 2024 in einer originalgetreuen englischsprachigen Fassung unter freiem Himmel im Schloss Pötzleinsdorf. Warum auf Englisch? »Als internationale Company sind wir der Überzeugung\, dass gut gemachtes Theater sprachenunabhängig ist«\, erklärt Intendant Robert G. Neumayr vom Verein Open House Theatre. Dies gilt insbesondere für einen Klassiker wie »Romeo & Juliet«. In der Inszenierung von Maria Lohn und Ricky McMurry verkörpern Louise Prack und Sam Kozeluh  das junge Liebespaar. \nHinweis: Die Vorstellungen finden bei jedem Wetter statt\, da sowohl eine Outdoor- als auch eine Indoor-Option zur Verfügung stehen. \nBild: Louise Prack und Sam Kozeluh begeistern in Pötzleinsdorf\, Foto/© Janos Klotz \n
URL:https://www.strawanzerin.at/termin/romeo-juliet-verlieben-sich-beim-sommertheater-in-poetzleinsdorf%e2%80%a8%e2%80%a8/2024-07-06/
LOCATION:Schloss Pötzleinsdorf  \, Geymüllergasse 1 \, Wien\, Wien\, 1180\, Österreich
CATEGORIES:ab 7,Theater/Kabarett,Wien
ATTACH;FMTTYPE=image/jpeg:https://www.strawanzerin.at/wp-content/uploads/2024/06/RomeoJuliet_DSC0625.jpg
END:VEVENT
END:VCALENDAR