BEGIN:VCALENDAR
VERSION:2.0
PRODID:-//STRAWANZERIN - ECPv4.9.5//NONSGML v1.0//EN
CALSCALE:GREGORIAN
METHOD:PUBLISH
X-WR-CALNAME:STRAWANZERIN
X-ORIGINAL-URL:https://www.strawanzerin.at
X-WR-CALDESC:Veranstaltungen im STRAWANZERIN
BEGIN:VTIMEZONE
TZID:"Europe/Vienna"
BEGIN:DAYLIGHT
TZOFFSETFROM:+0100
TZOFFSETTO:+0200
TZNAME:CEST
DTSTART:20260329T010000
END:DAYLIGHT
BEGIN:STANDARD
TZOFFSETFROM:+0200
TZOFFSETTO:+0100
TZNAME:CET
DTSTART:20261025T010000
END:STANDARD
END:VTIMEZONE
BEGIN:VEVENT
DTSTART;TZID="Europe/Vienna":20260214T180000
DTEND;TZID="Europe/Vienna":20260214T220000
DTSTAMP:20260420T190819
CREATED:20260122T132835Z
LAST-MODIFIED:20260122T132835Z
UID:112051-1771092000-1771106400@www.strawanzerin.at
SUMMARY:Rostrot das Pflaster
DESCRIPTION:Literatur zum 12\, Februar 1934\nDoris Dornetshuber liest aus Anna Seghers „Der Weg durch den Februar“\nRobert Reinagl rezitiert zwei Gedichte von Erich Weinert (Audioeinspielung)\nPaul Ferstl liest aus seinem Roman „Rostrot“ \n
URL:https://www.strawanzerin.at/termin/rostrot-das-pflaster/
LOCATION:Pankahyttn\, Johnstrasse 45\, Wien\, Wien\, 1150\, Österreich
CATEGORIES:Literatur
ATTACH;FMTTYPE=image/jpeg:https://www.strawanzerin.at/wp-content/uploads/2026/01/Rostrot.jpg
ORGANIZER;CN="B%C3%BCndnis%2012.Februar":MAILTO:12februar@riseup.net
GEO:48.1967529;16.3183513
X-APPLE-STRUCTURED-LOCATION;VALUE=URI;X-ADDRESS=Pankahyttn Johnstrasse 45 Wien Wien 1150 Österreich;X-APPLE-RADIUS=500;X-TITLE=Johnstrasse 45:geo:16.3183513,48.1967529
END:VEVENT
END:VCALENDAR