BEGIN:VCALENDAR
VERSION:2.0
PRODID:-//STRAWANZERIN - ECPv4.9.5//NONSGML v1.0//EN
CALSCALE:GREGORIAN
METHOD:PUBLISH
X-WR-CALNAME:STRAWANZERIN
X-ORIGINAL-URL:https://www.strawanzerin.at
X-WR-CALDESC:Veranstaltungen im STRAWANZERIN
BEGIN:VTIMEZONE
TZID:"Europe/Vienna"
BEGIN:DAYLIGHT
TZOFFSETFROM:+0100
TZOFFSETTO:+0200
TZNAME:CEST
DTSTART:20170326T010000
END:DAYLIGHT
BEGIN:STANDARD
TZOFFSETFROM:+0200
TZOFFSETTO:+0100
TZNAME:CET
DTSTART:20171029T010000
END:STANDARD
END:VTIMEZONE
BEGIN:VEVENT
DTSTART;TZID="Europe/Vienna":20170930T193000
DTEND;TZID="Europe/Vienna":20170930T220000
DTSTAMP:20260421T133721
CREATED:20170927T105833Z
LAST-MODIFIED:20170927T134136Z
UID:47287-1506799800-1506808800@www.strawanzerin.at
SUMMARY:Rudi Fußi - "Jetzt rede ich! ein Politik-Berater packt aus"
DESCRIPTION:Der Kabarett-Erstling von Rudi Fußi wird von Kritikern und Publikum gleichermaßen gefeiert. Der PR- und Politikberater bildet sein Publikum im Rahmen des fiktiven AMS-Intensivkurses „Berufspolitiker\, aber richtig!“ zu zukünftigen Stars der österreichischen Polit-Szene aus.  \n
URL:https://www.strawanzerin.at/termin/rudi-fussi-jetzt-rede-ich-ein-politik-berater-packt-aus/
LOCATION:Danubium Tulln\, Brüdergasse 1\, Tulln\, Niederösterreich\, 3430\, Österreich
CATEGORIES:Theater/Kabarett
ATTACH;FMTTYPE=image/jpeg:https://www.strawanzerin.at/wp-content/uploads/2017/09/RudiFussi_Jetzt_rede_ich_3cChristianSkalnik.jpg
GEO:48.3310133;16.0498303
X-APPLE-STRUCTURED-LOCATION;VALUE=URI;X-ADDRESS=Danubium Tulln Brüdergasse 1 Tulln Niederösterreich 3430 Österreich;X-APPLE-RADIUS=500;X-TITLE=Brüdergasse 1:geo:16.0498303,48.3310133
END:VEVENT
END:VCALENDAR