BEGIN:VCALENDAR
VERSION:2.0
PRODID:-//STRAWANZERIN - ECPv4.9.5//NONSGML v1.0//EN
CALSCALE:GREGORIAN
METHOD:PUBLISH
X-WR-CALNAME:STRAWANZERIN
X-ORIGINAL-URL:https://www.strawanzerin.at
X-WR-CALDESC:Veranstaltungen im STRAWANZERIN
BEGIN:VTIMEZONE
TZID:"Europe/Helsinki"
BEGIN:DAYLIGHT
TZOFFSETFROM:+0200
TZOFFSETTO:+0300
TZNAME:EEST
DTSTART:20150329T010000
END:DAYLIGHT
BEGIN:STANDARD
TZOFFSETFROM:+0300
TZOFFSETTO:+0200
TZNAME:EET
DTSTART:20151025T010000
END:STANDARD
END:VTIMEZONE
BEGIN:VEVENT
DTSTART;TZID="Europe/Helsinki":20151023T200000
DTEND;TZID="Europe/Helsinki":20151023T230000
DTSTAMP:20260421T090025
CREATED:20151014T213117Z
LAST-MODIFIED:20151019T121938Z
UID:20888-1445630400-1445641200@www.strawanzerin.at
SUMMARY:SAMINA und die Mutter des Universums
DESCRIPTION:Ein Film von BIRGIT WALK \n8.848 Meter hoch ist der Mount Everest\, mit dem tibetischen Namen ‚Chomolungma‘\, Mutter des Universums: Als erste muslimische Frau ist Samina Baig zu ihr aufgestiegen. Über Saminas Einsatz für die Gleichberechtigung der Frauen in Pakistan hat Birgit Walk diesen Film gedreht. \nMONIKA GIOVINAZZI wird mit einer Installation\, Musik und Performance Saminas Weg transzendieren. \nIn einem Gespräch mit Eva Geber (Kulturpublizistin) berichtet Birgit Walk über die Motive\, die zur Entstehung dieses Films führten. \nEintritt frei\nReservierung: das.dorf@gmx.at oder Tel. 01-208 26 50 \n5 KÜNSTLERINNEN\, 5 MUSENKÜSSE – Teil 2\nText\, Bild\, Film\, Komposition & Performance\nFünf Künstlerinnen und Autorinnen präsentieren an vier Abenden\neigene Texte in unterschiedlichen Ausdrucksformen. \n
URL:https://www.strawanzerin.at/termin/samina-und-die-mutter-des-universums-2/
LOCATION:Das Dorf\, Viaduktgasse 2/1\, Wien\, 1030\, Österreich
CATEGORIES:Deutsch,Feminismus,Film,Gratis,Wien
ATTACH;FMTTYPE=image/jpeg:https://www.strawanzerin.at/wp-content/uploads/2015/10/SAMINA_Birgit-Walk-web.jpg
GEO:48.2081696;16.3877767
X-APPLE-STRUCTURED-LOCATION;VALUE=URI;X-ADDRESS=Das Dorf Viaduktgasse 2/1 Wien 1030 Österreich;X-APPLE-RADIUS=500;X-TITLE=Viaduktgasse 2/1:geo:16.3877767,48.2081696
END:VEVENT
END:VCALENDAR