BEGIN:VCALENDAR
VERSION:2.0
PRODID:-//STRAWANZERIN - ECPv4.9.5//NONSGML v1.0//EN
CALSCALE:GREGORIAN
METHOD:PUBLISH
X-WR-CALNAME:STRAWANZERIN
X-ORIGINAL-URL:https://www.strawanzerin.at
X-WR-CALDESC:Veranstaltungen im STRAWANZERIN
BEGIN:VTIMEZONE
TZID:"Europe/Vienna"
BEGIN:DAYLIGHT
TZOFFSETFROM:+0100
TZOFFSETTO:+0200
TZNAME:CEST
DTSTART:20180325T010000
END:DAYLIGHT
BEGIN:STANDARD
TZOFFSETFROM:+0200
TZOFFSETTO:+0100
TZNAME:CET
DTSTART:20181028T010000
END:STANDARD
END:VTIMEZONE
BEGIN:VEVENT
DTSTART;TZID="Europe/Vienna":20181201T193000
DTEND;TZID="Europe/Vienna":20181222T193000
DTSTAMP:20260422T142217
CREATED:20181126T163505Z
LAST-MODIFIED:20181126T163505Z
UID:60950-1543692600-1545507000@www.strawanzerin.at
SUMMARY:Sam's Bar 2018
DESCRIPTION:Von 1. bis 22. Dezember 2018 zelebriert das Theater Nestroyhof Hamakom\nerneut die Etablissement-Tradition des von Oskar Marmorek erbauten Nestroyhofs\nund verwandelt sich bereits zum fünften Mal in Sam’s Bar.\nDas Theater Nestroyhof Hamakom wird somit zur Bar\, zum Konzertsaal und bleibt\ndennoch Theater. In diesem Raum\, der vielerlei Perspektiven ermöglicht\, wird das\nPublikum zu Gesprächen\, Begegnungen\, zum Zuhören\, Feiern\, Genießen und\nDenken eingeladen.\nFünf Konzerte mit außergewöhnlichen Musiker_innen wie Michel Godard\, Nataša\nMirković\, Peter Ponger und vielen anderen sind zu erleben. Frederic Lion erinnert in\nseiner lecture performance „In eigener Sache“ an die jüdischen Künstlerspiele\, die\ntrotz der Gefahr von 1927–1938 im Nestroyhof einen wesentlichen Teil der kulturellen\nIdentität Wiens wahrten und die junge Regisseurin Milena Michalek macht sich\ngemeinsam mit einer Musikerin und einer Schauspielerin in Form einer\nStückentwicklung auf die Suche nach dem „DIBBUK“. \nProgrammübersicht\n1. Dezember „Im Augenblick“ mit Nataša Mirković und Michel Godard\n2. Dezember Scheiny’s All Star Yiddish Revue\n7. Dezember Premiere von „DIBBUK“\n8. Dezember „In eigener Sache“ von und mit Frederic Lion\n13. Dezember „Relocated“ – Nabil and Friends\n15. Dezember Peter Ponger – Solopiano\n22. Dezember SOLO-GEMEINSAM mit Tahereh Nourani und Jelena Popržan \nBarbetrieb: ab 19 Uhr\nProgrammbeginn: 19.30 Uhr\n(DIBBUK ab 20 Uhr) \n
URL:https://www.strawanzerin.at/termin/sams-bar-2018/
LOCATION:Theater Nestroyhof / Hamakom\, Nestroypl. 1\, Wien\, Wien\, 1020\, Österreich
ATTACH;FMTTYPE=image/jpeg:https://www.strawanzerin.at/wp-content/uploads/2018/11/Sujet-Sams-Bar.jpg
END:VEVENT
END:VCALENDAR