BEGIN:VCALENDAR
VERSION:2.0
PRODID:-//STRAWANZERIN - ECPv4.9.5//NONSGML v1.0//EN
CALSCALE:GREGORIAN
METHOD:PUBLISH
X-WR-CALNAME:STRAWANZERIN
X-ORIGINAL-URL:https://www.strawanzerin.at
X-WR-CALDESC:Veranstaltungen im STRAWANZERIN
BEGIN:VTIMEZONE
TZID:"Europe/Vienna"
BEGIN:DAYLIGHT
TZOFFSETFROM:+0100
TZOFFSETTO:+0200
TZNAME:CEST
DTSTART:20230326T010000
END:DAYLIGHT
BEGIN:STANDARD
TZOFFSETFROM:+0200
TZOFFSETTO:+0100
TZNAME:CET
DTSTART:20231029T010000
END:STANDARD
END:VTIMEZONE
BEGIN:VEVENT
DTSTART;TZID="Europe/Vienna":20231221T193000
DTEND;TZID="Europe/Vienna":20231221T213000
DTSTAMP:20260421T210649
CREATED:20231113T103806Z
LAST-MODIFIED:20231113T103806Z
UID:95235-1703187000-1703194200@www.strawanzerin.at
SUMMARY:Sam's Bar 2023: Mahan Mirarab Septett
DESCRIPTION:Komponieren heißt für Mahan Mirarab\, Räume zu öffnen\, in denen unterschiedlichste Menschen zusammenkommen. So steht seine Musik auch für überraschende\, tonale Kombinationen und Begegnungen mit dem (vielleicht) noch Unbekannten. Eine musikalische Entdeckung\, die sich lohnt! \nTexturen der akustischen Kammermusik verweben sich mit musikalischen Motiven der iranischen Klassik. Immer wieder brechen die Strukturen in Jazzimprovisationen auf. Gemeinsam mit Sängerin Golnar Shahyar\, der Klarinettistin Mona Matbou Riahi\, dem Saxophonisten Stepan Flagar\, Pianisten David Six\, Bassisten Martin Beraurer und dem Ausnahme-Percussionisten Amir Wahba gestaltet Mahan Mirarab einen außergewöhnlichen Konzertabend für Sam’s Bar 2023. \nLyrik iranischer Dichter*innen\, darunter z.B. Forough Farrokhzad oder Ahmad Shamlou\, sowie innere Traumbilder\, Filme oder Beobachtungen dienen Mahan Mirarab als Inspiration und Kompositionsgrundlage. Im „Sich aus bekannten Strukturen befreien“ sieht Mahan einen Weg für seine eigene Identität zu kämpfen\, eine ehrliche Sprache. Sowohl im Jazz als auch in der traditionellen iranischen Musik verfolgt er mit seinen Mitstreiter*innen diese Philosophie. Er stellt sich in seinen Kompositionen nicht gegen die Tradition\, sondern betrachtet und präsentiert sie aus immer neuen Blickwinkeln. \nIm Vordergrund seiner Musik steht der Groove. Ein Körper muss sich beim Musizieren bewegen. Deshalb geht es in seiner Musik niemals nur um die Darstellung von Komplexität\, sondern immer auch um das Verhältnis des Rhythmus zum Körper.\nAlso let’s groove together! \nKomposition\, Gitarre\, Fretless Guitar: Mahan Mirab / Gesang: Golnar Shahyar / Klarinette: Mona Matbou Riahi / Saxophon: Stepan Flagar / Klavier: David Six / Bass: Martin Berauer / Percussion: Amir Wahba \n_________ \nSam’s Bar: Seit 2013 versetzt das Theater Nestroyhof Hamakom jährlich um die Weihnachts- und Chanukkazeit den Theatersaal des Nestroyhofes in seinen “Urzustand” eines Vergnügungsetablissements zurück. Mitten im Saal befindet sich eine Bar\, der eine Guckkastenbühne gegenübersteht. Neben dem von Ingrid Lang kuratierten Konzertprogramm soll diese Atmosphäre zu spartenübergreifenden Grenzüberschreitungen anregen. Sam’s Bar ist außerdem ein Experimentier-Ort für junge Theaterregisseur*innen. Barrierefrei lädt die Bar das Publikum und die Künstler*innen dazu ein\, anhand aktueller Themen außerhalb einer konventionellen Bühnensituation\, miteinander in Kontakt zu treten. \n
URL:https://www.strawanzerin.at/termin/sams-bar-2023-mahan-mirarab-septett/
LOCATION:Theater Nestroyhof / Hamakom\, Nestroypl. 1\, Wien\, Wien\, 1020\, Österreich
CATEGORIES:ab 7,Musik
ATTACH;FMTTYPE=image/jpeg:https://www.strawanzerin.at/wp-content/uploads/2023/11/Georg-Cizek-Graf.jpeg
END:VEVENT
END:VCALENDAR