BEGIN:VCALENDAR
VERSION:2.0
PRODID:-//STRAWANZERIN - ECPv4.9.5//NONSGML v1.0//EN
CALSCALE:GREGORIAN
METHOD:PUBLISH
X-WR-CALNAME:STRAWANZERIN
X-ORIGINAL-URL:https://www.strawanzerin.at
X-WR-CALDESC:Veranstaltungen im STRAWANZERIN
BEGIN:VTIMEZONE
TZID:"Europe/Vienna"
BEGIN:DAYLIGHT
TZOFFSETFROM:+0100
TZOFFSETTO:+0200
TZNAME:CEST
DTSTART:20230326T010000
END:DAYLIGHT
BEGIN:STANDARD
TZOFFSETFROM:+0200
TZOFFSETTO:+0100
TZNAME:CET
DTSTART:20231029T010000
END:STANDARD
END:VTIMEZONE
BEGIN:VEVENT
DTSTART;TZID="Europe/Vienna":20230922T203000
DTEND;TZID="Europe/Vienna":20230922T233000
DTSTAMP:20260423T211924
CREATED:20230919T100455Z
LAST-MODIFIED:20230919T100455Z
UID:93801-1695414600-1695425400@www.strawanzerin.at
SUMMARY:Samuel Yirga - Österreich Tour
DESCRIPTION:Von 22.9. bis 7.10. organisiert kulturen in bewegung die Österreich-Tournee des jungen Vertreters der Ethio-Jazz-Szene\, Samuel Yirga. Auf Basis äthiopischer Klangmuster improvisiert Yirga am Klavier und kombiniert zeitgenössischen und klassischen Jazz mit Pop-Songs aus der goldenen Zeit äthiopischer Musik. Diese besondere Kombination öffnete dem vielseitigen Musiker die Türen zu Festivals weltweit. Seine Kollaborationen reichen über Susheela Raman\, die deutschen Popstars Clueso und Max Herre\, bis hin zu Rapper Megalo.\nAus der Musikszene in Addis Abeba ist Yirga schon lange nicht mehr wegzudenken. Er gilt als aufstrebender Stern am äthiopischen Musikhimmel. Im Herbst 2023 hat nun auch\ndas österreichische Publikum die Gelegenheit\, Yirga und sein Ensemble live zu erleben.\nAuftaktkonzert ist am 22. Sept. 2023 im Porgy & Bess Wien! \n
URL:https://www.strawanzerin.at/termin/samuel-yirga-oesterreich-tour/
LOCATION:Porgy & Bess\, Riemergasse 11\, Wien\, Wien\, 1010\, Österreich
CATEGORIES:Musik
ATTACH;FMTTYPE=image/jpeg:https://www.strawanzerin.at/wp-content/uploads/2023/09/Yirga-mit-Band_c-Asfaw-Yohannes_1-scaled.jpg
ORGANIZER;CN="kulturen%20in%20bewegung":MAILTO:brotzge@vidc.org
GEO:48.2068333;16.3766401
X-APPLE-STRUCTURED-LOCATION;VALUE=URI;X-ADDRESS=Porgy & Bess Riemergasse 11 Wien Wien 1010 Österreich;X-APPLE-RADIUS=500;X-TITLE=Riemergasse 11:geo:16.3766401,48.2068333
END:VEVENT
END:VCALENDAR