BEGIN:VCALENDAR
VERSION:2.0
PRODID:-//STRAWANZERIN - ECPv4.9.5//NONSGML v1.0//EN
CALSCALE:GREGORIAN
METHOD:PUBLISH
X-WR-CALNAME:STRAWANZERIN
X-ORIGINAL-URL:https://www.strawanzerin.at
X-WR-CALDESC:Veranstaltungen im STRAWANZERIN
BEGIN:VTIMEZONE
TZID:"Europe/Vienna"
BEGIN:DAYLIGHT
TZOFFSETFROM:+0100
TZOFFSETTO:+0200
TZNAME:CEST
DTSTART:20240331T010000
END:DAYLIGHT
BEGIN:STANDARD
TZOFFSETFROM:+0200
TZOFFSETTO:+0100
TZNAME:CET
DTSTART:20241027T010000
END:STANDARD
END:VTIMEZONE
BEGIN:VEVENT
DTSTART;TZID="Europe/Vienna":20240119T200000
DTEND;TZID="Europe/Vienna":20240119T210000
DTSTAMP:20260423T174419
CREATED:20240116T180501Z
LAST-MODIFIED:20240116T180501Z
UID:96077-1705694400-1705698000@www.strawanzerin.at
SUMMARY:Sara Lanner – WEAVING INFRASTRUCTURES
DESCRIPTION:In WEAVING INFRASTRUCTURES untersucht die Choreografin Sara Lanner\, wie uns Räume und Infrastrukturen prägen\, ermächtigen oder einschränken. Anhand ihrer ganz unterschiedlichen persönlichen Hintergründe gehen drei Performerinnen der Frage nach\, wo ihnen Infrastrukturen als Support-\, Schutz- oder Machträume begegnen und sich in ihren Persönlichkeiten zeigen. Sie reagieren auf soziale und ökologische Krisen der Gegenwart und beleuchten Fragen von Care und sozialer Gerechtigkeit. \n
URL:https://www.strawanzerin.at/termin/sara-lanner-weaving-infrastructures/2024-01-19/
LOCATION:brut nordwest\, Nordwestbahnstraße 8-10\, Wien\, Wien\, 1200\, Österreich
CATEGORIES:Tanz,Theater/Kabarett
ATTACH;FMTTYPE=image/jpeg:https://www.strawanzerin.at/wp-content/uploads/2024/01/web_SaraLanner_WEAVING-INFRASTRUCTURES_c_ElsaOkazaki-scaled.jpg
ORGANIZER;CN="brut%20Wien":MAILTO:info@brut-wien.at
END:VEVENT
END:VCALENDAR