BEGIN:VCALENDAR
VERSION:2.0
PRODID:-//STRAWANZERIN - ECPv4.9.5//NONSGML v1.0//EN
CALSCALE:GREGORIAN
METHOD:PUBLISH
X-WR-CALNAME:STRAWANZERIN
X-ORIGINAL-URL:https://www.strawanzerin.at
X-WR-CALDESC:Veranstaltungen im STRAWANZERIN
BEGIN:VTIMEZONE
TZID:"Europe/Vienna"
BEGIN:DAYLIGHT
TZOFFSETFROM:+0100
TZOFFSETTO:+0200
TZNAME:CEST
DTSTART:20190331T010000
END:DAYLIGHT
BEGIN:STANDARD
TZOFFSETFROM:+0200
TZOFFSETTO:+0100
TZNAME:CET
DTSTART:20191027T010000
END:STANDARD
END:VTIMEZONE
BEGIN:VEVENT
DTSTART;TZID="Europe/Vienna":20191115T193000
DTEND;TZID="Europe/Vienna":20191115T210000
DTSTAMP:20260420T083542
CREATED:20190816T000958Z
LAST-MODIFIED:20190903T160049Z
UID:66501-1573846200-1573851600@www.strawanzerin.at
SUMMARY:Sartres geheimster Schüler und die Revolutionärin
DESCRIPTION:Das wirklich-Quartett liest aus dem neuen Buch von Pan Papillon: \n“Es scheint ja öfter vorzukommen\, dass Menschen von einem Fettnäpfchen ins andere treten\, gerade weil sie durch das Ausrutschen am Ersten taumelnd und überhastet den nächsten Schritt setzen\, ohne Blick nach vorne\, sondern nur\, um das verlorene Gleichgewicht wieder zu erlangen. Ein solcher Mensch könnte als unmündig bezeichnet werden\, genauso wie jener der verharrt und nicht fähig oder willens ist seinem Leben selbstbestimmt die gewollte Richtung zu geben.”\nDer Erzähler \n“Was wir Freiheit nennen\, ist unmöglich vom Sein der menschlichen-Realität zu unterscheiden. Der Mensch ist keineswegs zunächst\, um dann frei zu sein\, sondern es gibt keinen Unterschied zwischen dem Sein des Menschen und seinem Frei-Sein.”\nJean-Paul Sartre \n
URL:https://www.strawanzerin.at/termin/sartres-geheimster-schueler-und-die-revolutionaerin-2/
CATEGORIES:Gratis,Literatur,Soziale Kämpfe
ATTACH;FMTTYPE=image/jpeg:https://www.strawanzerin.at/wp-content/uploads/2019/08/wirklich-Flyer-online-2.jpg
ORGANIZER;CN="wirklich":MAILTO:wirklich@posteo.net
END:VEVENT
END:VCALENDAR