BEGIN:VCALENDAR
VERSION:2.0
PRODID:-//STRAWANZERIN - ECPv4.9.5//NONSGML v1.0//EN
CALSCALE:GREGORIAN
METHOD:PUBLISH
X-WR-CALNAME:STRAWANZERIN
X-ORIGINAL-URL:https://www.strawanzerin.at
X-WR-CALDESC:Veranstaltungen im STRAWANZERIN
BEGIN:VTIMEZONE
TZID:"Europe/Vienna"
BEGIN:DAYLIGHT
TZOFFSETFROM:+0100
TZOFFSETTO:+0200
TZNAME:CEST
DTSTART:20180325T010000
END:DAYLIGHT
BEGIN:STANDARD
TZOFFSETFROM:+0200
TZOFFSETTO:+0100
TZNAME:CET
DTSTART:20181028T010000
END:STANDARD
END:VTIMEZONE
BEGIN:VEVENT
DTSTART;TZID="Europe/Vienna":20180117T183000
DTEND;TZID="Europe/Vienna":20180117T200000
DTSTAMP:20260422T165131
CREATED:20180108T152720Z
LAST-MODIFIED:20180109T144010Z
UID:51326-1516213800-1516219200@www.strawanzerin.at
SUMMARY:Schatten über Wien. Was wir täglich sehen\, aber nicht bemerken
DESCRIPTION:Präsentation und Lesung im Zeitgeist deckt Geheimnisse über Wien auf.\n„Schatten über Wien. Was wir täglich sehen\, aber nicht bemerken.“ Diesen Arbeitstitel wählt Radio Wien-Redakteur und Autor Dr. Reinhardt Badegruber für sein neues Buch über verstecktes Wissen und „Kellerleichen“ in Österreichs Hauptstadt. Zum Beispiel: Welcher „Tante Jolesch“-Fan ahnt schon\, dass gefeierte Kaffeehäuser auch Kokain-Höhlen und Anbahnungsetablissements waren? In der Reihe „Medien im Zeitgeist“ laden das Hotel Zeitgeist Vienna und der Österreichische Journalisten Club am Mittwoch\, 17. Jänner\, um 18.30 Uhr zur Lesung mit dem Autor ein. Der Eintritt ist frei! \nAnmeldung:\norganisation@oejc.at \nFoto: Aussenansicht Hotel Zeitgeist Vienna\, © Hotel Zeitgeist Vienna \n
URL:https://www.strawanzerin.at/termin/schatten-ueber-wien-was-wir-taeglich-sehen-aber-nicht-bemerken/
LOCATION:Hotel ZEITGEIST Vienna\, Sonnwendgasse 15\, Wien\, Wien\, 1100\, Österreich
CATEGORIES:Gratis,Literatur,Wien
ATTACH;FMTTYPE=image/jpeg:https://www.strawanzerin.at/wp-content/uploads/2018/01/image003.jpg
GEO:48.1822922;16.3783348
X-APPLE-STRUCTURED-LOCATION;VALUE=URI;X-ADDRESS=Hotel ZEITGEIST Vienna Sonnwendgasse 15 Wien Wien 1100 Österreich;X-APPLE-RADIUS=500;X-TITLE=Sonnwendgasse 15:geo:16.3783348,48.1822922
END:VEVENT
END:VCALENDAR