BEGIN:VCALENDAR
VERSION:2.0
PRODID:-//STRAWANZERIN - ECPv4.9.5//NONSGML v1.0//EN
CALSCALE:GREGORIAN
METHOD:PUBLISH
X-WR-CALNAME:STRAWANZERIN
X-ORIGINAL-URL:https://www.strawanzerin.at
X-WR-CALDESC:Veranstaltungen im STRAWANZERIN
BEGIN:VTIMEZONE
TZID:"Europe/Vienna"
BEGIN:DAYLIGHT
TZOFFSETFROM:+0100
TZOFFSETTO:+0200
TZNAME:CEST
DTSTART:20180325T010000
END:DAYLIGHT
BEGIN:STANDARD
TZOFFSETFROM:+0200
TZOFFSETTO:+0100
TZNAME:CET
DTSTART:20181028T010000
END:STANDARD
END:VTIMEZONE
BEGIN:VEVENT
DTSTART;TZID="Europe/Vienna":20180412T190000
DTEND;TZID="Europe/Vienna":20180412T200000
DTSTAMP:20260420T101156
CREATED:20180326T091027Z
LAST-MODIFIED:20180326T093504Z
UID:53765-1523559600-1523563200@www.strawanzerin.at
SUMMARY:»Schindlers Liste« - Vortrag von Erika Rosenberg im Heeresgeschichtlichen Museum
DESCRIPTION:Oskar Schindler war ein deutschmährischer Unternehmer\, der gemeinsam mit seiner Frau Emilie während des Zweiten Weltkrieges etwa 1.200 bei ihnen angestellte jüdische Zwangsarbeiter vor der Ermordung im Vernichtungslager bewahrte. Bekannt wurde er vor allem durch die Verfilmung im Jahr 1993. Erika Rosenberg\, 1951 in Argentinien geborene Tochter deutscher Juden\, war eng mit Emilie Schindler befreundet und verfasste mehrere Biografien zu Emilie und Oskar Schindler. Ein Vortrag am 12. April um 19 Uhr beleuchtet die Hintergründe. Der Eintritt ist frei. \nFoto/© www.hgm.at \n
URL:https://www.strawanzerin.at/termin/schindlers-liste-vortrag-von-erika-rosenberg-im-heeresgeschichtlichen-museum/
LOCATION:Heeresgeschichtliches Museum\, Arsenal\, Wien\, Wien\, 1030\, Österreich
CATEGORIES:Gratis,Vortrag/Symposium,Wien
ATTACH;FMTTYPE=image/jpeg:https://www.strawanzerin.at/wp-content/uploads/2018/03/Foto_Schindler.jpg
GEO:48.1833104;16.3932274
X-APPLE-STRUCTURED-LOCATION;VALUE=URI;X-ADDRESS=Heeresgeschichtliches Museum Arsenal Wien Wien 1030 Österreich;X-APPLE-RADIUS=500;X-TITLE=Arsenal:geo:16.3932274,48.1833104
END:VEVENT
END:VCALENDAR