BEGIN:VCALENDAR
VERSION:2.0
PRODID:-//STRAWANZERIN - ECPv4.9.5//NONSGML v1.0//EN
CALSCALE:GREGORIAN
METHOD:PUBLISH
X-WR-CALNAME:STRAWANZERIN
X-ORIGINAL-URL:https://www.strawanzerin.at
X-WR-CALDESC:Veranstaltungen im STRAWANZERIN
BEGIN:VTIMEZONE
TZID:"Europe/Helsinki"
BEGIN:DAYLIGHT
TZOFFSETFROM:+0200
TZOFFSETTO:+0300
TZNAME:EEST
DTSTART:20160327T010000
END:DAYLIGHT
BEGIN:STANDARD
TZOFFSETFROM:+0300
TZOFFSETTO:+0200
TZNAME:EET
DTSTART:20161030T010000
END:STANDARD
BEGIN:DAYLIGHT
TZOFFSETFROM:+0200
TZOFFSETTO:+0300
TZNAME:EEST
DTSTART:20170326T010000
END:DAYLIGHT
BEGIN:STANDARD
TZOFFSETFROM:+0300
TZOFFSETTO:+0200
TZNAME:EET
DTSTART:20171029T010000
END:STANDARD
END:VTIMEZONE
BEGIN:VEVENT
DTSTART;TZID="Europe/Helsinki":20161231T220000
DTEND;TZID="Europe/Helsinki":20170101T060000
DTSTAMP:20260421T140805
CREATED:20161122T110307Z
LAST-MODIFIED:20161125T113111Z
UID:37038-1483221600-1483250400@www.strawanzerin.at
SUMMARY:Schleich di Oaschlochjahr! Die 2016-Abschiedsrevue der etwas anderen Art
DESCRIPTION:Wer 2016 gehasst hat\, wird diese Show lieben: pünktlich zu Silvester haben sich mal eben einige der bekanntesten queeren Partyreihen zusammengeschlossen\, um das Oaschlochjahr 2016 gebührend zu verabschieden. Bureaulesque zelebriert das Beste vom Schlechtesten des Jahres. Das Publikum erwarten launige Diven\, verschwommene Geschlechter und übergewichtige Männer. Ein Programm schillernd zwischen Varieté und Performance\, zwischen Drama und Dramedy\, gestaltet von Wiens queeren Talenten vom Club H.Ø.D.\, GenderCrash\, Naughty Night\, Yeah Bear\, Studio Kottlett und mehr. Moderiert wird die Sause von Dutzi Ijsenhower und Denice Bourbon. Garantiert ohne David Bowie\, Prince or any star dead or alive. Und damit sich das Jahr 2017 wieder lohnt\, gibt es nach Mitternacht Party mit vergnügten DJs von Sisters\, GenderCrash und Malefiz – garantiert ohne Vergnügungssteuer oder Lustbarkeitsabgabe!\nPreise \nPerformance + Glas Sekt + Party: 24 € (nur VVK)  \nParty ab 1 Uhr: 16 € (VVK)\, 19 € (AK) \n
URL:https://www.strawanzerin.at/termin/schleich-di-oaschlochjahr-die-2016-abschiedsrevue-der-etwas-anderen-art/
LOCATION:brut im Künstlerhaus\, Karlsplatz 5\, Wien\, 1010\, Österreich
CATEGORIES:ab 7,Fest,Queer,Wien
ATTACH;FMTTYPE=image/jpeg:https://www.strawanzerin.at/wp-content/uploads/2016/11/burt-night_Copyright-brut-Wien-600x600.jpg
ORGANIZER;CN="brut":MAILTO:info@brut-wien.at
GEO:48.200534;16.3715493
X-APPLE-STRUCTURED-LOCATION;VALUE=URI;X-ADDRESS=brut im Künstlerhaus Karlsplatz 5 Wien 1010 Österreich;X-APPLE-RADIUS=500;X-TITLE=Karlsplatz 5:geo:16.3715493,48.200534
END:VEVENT
END:VCALENDAR