BEGIN:VCALENDAR
VERSION:2.0
PRODID:-//STRAWANZERIN - ECPv4.9.5//NONSGML v1.0//EN
CALSCALE:GREGORIAN
METHOD:PUBLISH
X-WR-CALNAME:STRAWANZERIN
X-ORIGINAL-URL:https://www.strawanzerin.at
X-WR-CALDESC:Veranstaltungen im STRAWANZERIN
BEGIN:VTIMEZONE
TZID:"Europe/Helsinki"
BEGIN:DAYLIGHT
TZOFFSETFROM:+0200
TZOFFSETTO:+0300
TZNAME:EEST
DTSTART:20160327T010000
END:DAYLIGHT
BEGIN:STANDARD
TZOFFSETFROM:+0300
TZOFFSETTO:+0200
TZNAME:EET
DTSTART:20161030T010000
END:STANDARD
END:VTIMEZONE
BEGIN:VEVENT
DTSTART;TZID="Europe/Helsinki":20160301T190000
DTEND;TZID="Europe/Helsinki":20160301T210000
DTSTAMP:20260421T120446
CREATED:20160126T122827Z
LAST-MODIFIED:20160204T113754Z
UID:24073-1456858800-1456866000@www.strawanzerin.at
SUMMARY:Schleppen\, Schleusen\, Helfen. Flucht zwischen Rettung und Ausbeutung
DESCRIPTION:Buchpräsentation und Diskussion mit Gabriele Anderl (Herausgeberin mit Simon Usaty)\, Irene Messinger (Politologin und Exil- und Migrationsforscherin) und Herbert Langthaler (asylkoordination österreich) \nIm Kontext der Fluchtbewegungen der Jahre 1933-1945 fanden illegale Grenzübertritte wesentlich häufiger statt als allgemein bekannt. Sie erwiesen sich vielfach als lebensrettend … Heute ist das Thema angesichts der immer rigoroseren Abwehrmaßnahmen\, mit denen die »Festung Europa« gesichert werden soll\, brisanter denn je. Der Band befasst sich mit den unterschiedlichen Formen\, Phasen und Motiven der organisierten und individuellen Fluchthilfe oder »Schlepperei« seit den 1930er Jahren und rückt auch die restriktive Aufnahmepolitik der potentiellen Zufluchtsländer als wesentliche Ursache für das Phänomen ins Blickfeld. \n
URL:https://www.strawanzerin.at/termin/schleppen-schleusen-helfen-flucht-zwischen-rettung-und-ausbeutung/
LOCATION:C3 – Centrum für Internationale Entwicklung\, Sensengasse 3\, Wien\, Wien\, 1090\, Österreich
CATEGORIES:Deutsch,Gratis,Sonstiges,Vortrag/Symposium,Wien
ORGANIZER;CN="C3-Bibliothek%20f%C3%BCr%20Entwicklungspolitik":MAILTO:bibliothek@centrum3.at
GEO:48.2197597;16.3534487
X-APPLE-STRUCTURED-LOCATION;VALUE=URI;X-ADDRESS=C3 – Centrum für Internationale Entwicklung Sensengasse 3 Wien Wien 1090 Österreich;X-APPLE-RADIUS=500;X-TITLE=Sensengasse 3:geo:16.3534487,48.2197597
END:VEVENT
END:VCALENDAR