BEGIN:VCALENDAR
VERSION:2.0
PRODID:-//STRAWANZERIN - ECPv4.9.5//NONSGML v1.0//EN
CALSCALE:GREGORIAN
METHOD:PUBLISH
X-WR-CALNAME:STRAWANZERIN
X-ORIGINAL-URL:https://www.strawanzerin.at
X-WR-CALDESC:Veranstaltungen im STRAWANZERIN
BEGIN:VTIMEZONE
TZID:"Europe/Helsinki"
BEGIN:DAYLIGHT
TZOFFSETFROM:+0200
TZOFFSETTO:+0300
TZNAME:EEST
DTSTART:20150329T010000
END:DAYLIGHT
BEGIN:STANDARD
TZOFFSETFROM:+0300
TZOFFSETTO:+0200
TZNAME:EET
DTSTART:20151025T010000
END:STANDARD
END:VTIMEZONE
BEGIN:VEVENT
DTSTART;TZID="Europe/Helsinki":20150328T200000
DTEND;TZID="Europe/Helsinki":20150328T200000
DTSTAMP:20260422T054458
CREATED:20150319T105124Z
LAST-MODIFIED:20150319T105152Z
UID:12515-1427572800-1427572800@www.strawanzerin.at
SUMMARY:Schmoizhodan-Passion
DESCRIPTION:Höchste Zeit\, dem vielgeprüften Wienerer endlich zu geben\, was ihm schon lange zusteht: Ein eigenes musikalisches Martyrium Christi – melancholisch umspielt von Otto Lechner\, Pavel Shalman und den Klängen der einschlägigen Popkultur\, sorgsam eingewoben in Wolfgang Teuschls legendäre Bibelübersetzung Da Jesus und seine Hawara. Mit Alfred Schedl als Evangelist und Kammerlchor\, ganz im Stile der großen Passionsvertonungen – und dennoch auch für Zimmer\, Küche\, Kabinett … \nKonzept\, Dramaturgie: Florin Mittermayr\nRegie: Florin Mittermayr\, Bahar Naghibi\nProduktion: Bahar Naghibi\nJudas\, Harmonium: Otto Lechner\nVioline: Pavel Shalman\nEvangelist: Alfred Schedl\nJesus: Christian Steiner\nNebenrollen\, Gesang: Wiener Kammerlchor \n
URL:https://www.strawanzerin.at/termin/schmoizhodan-passion/2015-03-28/
LOCATION:Österreich
CATEGORIES:Deutsch,Eintrittspreis,Kunst/Kultur,Theater/Kabarett,Wien
ORGANIZER;CN="Theater%20Drachengasse":MAILTO:karten.drachengasse.at
END:VEVENT
END:VCALENDAR