BEGIN:VCALENDAR
VERSION:2.0
PRODID:-//STRAWANZERIN - ECPv4.9.5//NONSGML v1.0//EN
CALSCALE:GREGORIAN
METHOD:PUBLISH
X-WR-CALNAME:STRAWANZERIN
X-ORIGINAL-URL:https://www.strawanzerin.at
X-WR-CALDESC:Veranstaltungen im STRAWANZERIN
BEGIN:VTIMEZONE
TZID:"Europe/Vienna"
BEGIN:DAYLIGHT
TZOFFSETFROM:+0100
TZOFFSETTO:+0200
TZNAME:CEST
DTSTART:20230326T010000
END:DAYLIGHT
BEGIN:STANDARD
TZOFFSETFROM:+0200
TZOFFSETTO:+0100
TZNAME:CET
DTSTART:20231029T010000
END:STANDARD
END:VTIMEZONE
BEGIN:VEVENT
DTSTART;TZID="Europe/Vienna":20230406T180000
DTEND;TZID="Europe/Vienna":20230406T193000
DTSTAMP:20260421T203353
CREATED:20230323T071305Z
LAST-MODIFIED:20230323T071305Z
UID:90045-1680804000-1680809400@www.strawanzerin.at
SUMMARY:Schöner\, fitter\, schneller.
DESCRIPTION:Wie gesellschaftliche Schönheitsideale und Körperbilder die Entwicklung von Essstörungen befeuern. \nSchwerpunkt FRAUEN \nVerschiedene Faktoren unterstützen die Entwicklung von Essstörungen. Auslöser genügt meist ein einziger. Soziale Medien und die dort vermittelten Schönheitsideale und Körperbilder beeinflussen die eigenen Bilder über sich und die eigene Erscheinung\, Frauen noch immer mehr als Männer. Diese gesellschaftlich transportierten Images unterstützen die Entwicklung von Essstörungen als Möglichkeit der Selbstoptimierung\, um einem vermeintlichen Ideal zu entsprechen. \nGabriele Haselberger\, Therapeutin\, Beraterin\, Skills-Trainerin; seit 1998 im Essstörungsbereich tätig u.a. in freier Praxis; seit 2013 in der Hotline für Essstörungen der Wiener Gesundheitsförderung GmbH. \n
URL:https://www.strawanzerin.at/termin/schoener-fitter-schneller/
LOCATION:VHS Wiener Urania\, Uraniastraße 1\, Wien\, Wien\, 1010\, Österreich
CATEGORIES:bis 7,Vortrag/Symposium
ATTACH;FMTTYPE=image/jpeg:https://www.strawanzerin.at/wp-content/uploads/2023/03/20060719_Wiener-Urania-c-VHS-Wiener-Urania_KLEINER-14.jpg
ORGANIZER;CN="VHS%20Wiener%20Urania":MAILTO:urania@vhs.at
END:VEVENT
END:VCALENDAR