BEGIN:VCALENDAR
VERSION:2.0
PRODID:-//STRAWANZERIN - ECPv4.9.5//NONSGML v1.0//EN
CALSCALE:GREGORIAN
METHOD:PUBLISH
X-WR-CALNAME:STRAWANZERIN
X-ORIGINAL-URL:https://www.strawanzerin.at
X-WR-CALDESC:Veranstaltungen im STRAWANZERIN
BEGIN:VTIMEZONE
TZID:"Europe/Vienna"
BEGIN:DAYLIGHT
TZOFFSETFROM:+0100
TZOFFSETTO:+0200
TZNAME:CEST
DTSTART:20240331T010000
END:DAYLIGHT
BEGIN:STANDARD
TZOFFSETFROM:+0200
TZOFFSETTO:+0100
TZNAME:CET
DTSTART:20241027T010000
END:STANDARD
END:VTIMEZONE
BEGIN:VEVENT
DTSTART;TZID="Europe/Vienna":20240506T190000
DTEND;TZID="Europe/Vienna":20240506T213000
DTSTAMP:20260422T135419
CREATED:20240330T164944Z
LAST-MODIFIED:20240330T164944Z
UID:97776-1715022000-1715031000@www.strawanzerin.at
SUMMARY:Schrammelini-Montag
DESCRIPTION:Es wird wieder geschrammelt! Wir nutzen die stürmischen Zeiten zum Durchlüften\, öffnen Türen und Fenster und lassen einen frischen Wind durch unseren Spiegelsaal huschen. Zeit wird’s ja nach fast zehn Jahren! Der fünfte Schrammel-Montag dieses Jahres steht im Zeichen der Jugend. Wir schicken die Neuen Wiener Concert Schrammeln in eine Zeitkapsel und verjüngen sie um zwanzig Jahre. Klingt doch schon mal vielversprechend\, oder? Zum ersten Mal schließen wir die offene Bühne im zweiten Teil und bitten die Schrammelinis – die nächste Generation – ins Rampenlicht. Ein Aufeinandertreffen von Reife\, Erfahrung\, unbeschwerter Spielfreude und jugendlichem Esprit. Was hätten da die Schrammel-Brüder dazu gesagt? Wir werden es wohl nicht erfahren\, aber wer weiß\, was oder wen es an diesem Tag durch unseren Spiegelsaal weht. Auf jeden Fall wunderbare Wiener Instrumentalmusik\, wie gewohnt verfeinert mit Schrammelteller\, Grammelschmalzbrot\, Wein und Co! \nMit den Neuen Wiener Concert Schrammeln\, Maria Stippich\, Monika Uhler und den Schrammelinis \n
URL:https://www.strawanzerin.at/termin/schrammelini-montag/
LOCATION:Liebhartstaler Bockkeller\, Gallitzinstraße\, 1\, Wien\, Österreich\, 1160\, Österreich
CATEGORIES:ab 7,Kinderkultur,Kunst/Kultur,Musik,Wien
ATTACH;FMTTYPE=image/jpeg:https://www.strawanzerin.at/wp-content/uploads/2024/03/Schrammelini_Montag_HelmutStippich-scaled.jpg
ORGANIZER;CN="Wiener%20Volksliedwerk":MAILTO:office@wvlw.at
END:VEVENT
END:VCALENDAR