BEGIN:VCALENDAR
VERSION:2.0
PRODID:-//STRAWANZERIN - ECPv4.9.5//NONSGML v1.0//EN
CALSCALE:GREGORIAN
METHOD:PUBLISH
X-WR-CALNAME:STRAWANZERIN
X-ORIGINAL-URL:https://www.strawanzerin.at
X-WR-CALDESC:Veranstaltungen im STRAWANZERIN
BEGIN:VTIMEZONE
TZID:"Europe/Vienna"
BEGIN:DAYLIGHT
TZOFFSETFROM:+0100
TZOFFSETTO:+0200
TZNAME:CEST
DTSTART:20200329T010000
END:DAYLIGHT
BEGIN:STANDARD
TZOFFSETFROM:+0200
TZOFFSETTO:+0100
TZNAME:CET
DTSTART:20201025T010000
END:STANDARD
END:VTIMEZONE
BEGIN:VEVENT
DTSTART;VALUE=DATE:20200222
DTEND;VALUE=DATE:20200225
DTSTAMP:20260421T022224
CREATED:20200129T210741Z
LAST-MODIFIED:20200130T105313Z
UID:71723-1582344000-1582516799@www.strawanzerin.at
SUMMARY:Schreibworkshop "ICH UND ROLLE"
DESCRIPTION:22./23. Februar 2020\nSamstag 10:00 bis 18:00 Uhr\nSonntag 10:00 bis 16:00 Uhr \nEin Schreibworkshop mit Silvia Waltl \nSubjektivität & Identitätskonstruktionen im literarischen Text.\nIn diesem Workshop stellen wir uns die Frage nach der Natur des ICH\, das im literarischen Text spricht\, nach dem Spannungsfeld zwischen Autobiografie und Fiktion\, aber auch nach Methoden der Inszenierung des Persönlichen und Subjektiven im Text. \nWir setzen uns mit verschiedenen Erzählstandpunkten (Perspektiven) und deren Wirkungsweisen auseinander\, sowie mit speziellen dramaturgischen Formen wie dem inneren Monolog. Auch das lyrische Ich\, die subjektive Stimme im Gedicht\, wird in diesem Workshop von Interesse sein. \nIn diesem Workshop wirst du \n – die Einsatzgebiete\, Möglichkeiten und Limitierungen verschiedener Erzählsituationen und Erzählstandpunkte kennen und damit umgehen lernen\n – mit den dramaturgischen Mitteln und Möglichkeiten des inneren Monologs und Bewusstseinsstroms vertraut werden\n – das Spannungsfeld zwischen autobiografischem und literarischem bzw. fiktivem Ich kreativ ausloten\n – literarische Figuren auf Grundlage verschiedener biografischer und fiktiver Aspekte entwickeln und inszenieren\n – dich mit den Eigenschaften und Möglichkeiten des lyrischen Ichs – unter anderem auch in seiner Beziehung zum lyrischen Du – im Gedicht auseinandersetzen \nDieser Workshop ist geeignet für \n – SchreibanfängerInnen und Fortgeschrittene\n – alle\, die an den Möglichkeiten der literarischen Ver- und Bearbeitung autobiografischer Motive und deren Transformation in Fiktion interessiert sind\n – Schreibende\, die genau wissen wollen\, wie der „innere Monolog“ funktioniert\n – alle\, die sich mit Erzählpositionen und ihren Möglichkeiten und Wirkungsweisen auseinandersetzen und diese im Text umsetzen wollen\n – Schreibende\, die auf kompakte\, verständliche und vor allem praxisnahe Weise einen Einblick in die wesentlichen Aspekte der Erzähltheorie bekommen möchten \n
URL:https://www.strawanzerin.at/termin/schreibworkshop-ich-und-rolle/
LOCATION:BÖS-Atelier\, Vivenotgasse 30/ 2.2\, 1120 Wien\, Wien\, 1120\, Österreich
CATEGORIES:Bildung,Deutsch,Kunst/Kultur,Literatur,Wien,Workshop
ATTACH;FMTTYPE=image/jpeg:https://www.strawanzerin.at/wp-content/uploads/2020/01/BÖS-Workshop-Bild.jpg
ORGANIZER;CN="B%C3%96S-Berufsverband%20%C3%96sterreichischer%20Schreibp%C3%A4dagogInnen":MAILTO:hannah.sideris@boesmail.at
GEO:48.1806775;16.3309428
X-APPLE-STRUCTURED-LOCATION;VALUE=URI;X-ADDRESS=BÖS-Atelier Vivenotgasse 30/ 2.2 1120 Wien Wien 1120 Österreich;X-APPLE-RADIUS=500;X-TITLE=Vivenotgasse 30/ 2.2:geo:16.3309428,48.1806775
END:VEVENT
END:VCALENDAR