BEGIN:VCALENDAR
VERSION:2.0
PRODID:-//STRAWANZERIN - ECPv4.9.5//NONSGML v1.0//EN
CALSCALE:GREGORIAN
METHOD:PUBLISH
X-WR-CALNAME:STRAWANZERIN
X-ORIGINAL-URL:https://www.strawanzerin.at
X-WR-CALDESC:Veranstaltungen im STRAWANZERIN
BEGIN:VTIMEZONE
TZID:"Europe/Vienna"
BEGIN:DAYLIGHT
TZOFFSETFROM:+0100
TZOFFSETTO:+0200
TZNAME:CEST
DTSTART:20200329T010000
END:DAYLIGHT
BEGIN:STANDARD
TZOFFSETFROM:+0200
TZOFFSETTO:+0100
TZNAME:CET
DTSTART:20201025T010000
END:STANDARD
END:VTIMEZONE
BEGIN:VEVENT
DTSTART;VALUE=DATE:20200314
DTEND;VALUE=DATE:20200317
DTSTAMP:20260420T131624
CREATED:20200129T211234Z
LAST-MODIFIED:20200130T105319Z
UID:71725-1584158400-1584331199@www.strawanzerin.at
SUMMARY:Schreibworkshop "INSPIRATION UND RECHERCHE"
DESCRIPTION:14./15. März 2020\nSamstag 10:00 bis 18:00 Uhr\nSonntag 10:00 bis 16:00 Uhr \nEin Schreibworkshop mit Bettina Balàka \n„Wie kommen Sie nur auf Ihre Ideen?“\nEine der häufigsten Fragen an SchriftstellerInnen ist die\, woher sie ihre Inspiration nehmen. Doch tatsächlich kann man diese bewusst trainieren. Themen\, Stoffe\, Einfälle gibt es überall\, man muss sie nur finden. Dazu üben wir verschiedenste Techniken einschließlich der unspezifischen und spezifischen Recherche. \nIn diesem Workshop lernst du \n – wie große SchriftstellerInnen auf ihre Ideen kamen\n – eigene Inspirationsquellen erschließen\n – dein Themenspektrum erweitern\n – Fakten finden und sie in Fiktionen verwenden und verwandeln \nDieser Workshop ist geeignet für \n – Schreibende\, die ihre Texte erweitern wollen \n
URL:https://www.strawanzerin.at/termin/schreibworkshop-inspiration-und-recherche-2/
LOCATION:BÖS-Atelier\, Vivenotgasse 30/ 2.2\, 1120 Wien\, Wien\, 1120\, Österreich
CATEGORIES:Bildung,Deutsch,Kunst/Kultur,Literatur,Wien,Workshop
ATTACH;FMTTYPE=image/jpeg:https://www.strawanzerin.at/wp-content/uploads/2020/01/BÖS-Workshop-Bild-1.jpg
ORGANIZER;CN="B%C3%96S-Berufsverband%20%C3%96sterreichischer%20Schreibp%C3%A4dagogInnen":MAILTO:hannah.sideris@boesmail.at
GEO:48.1806775;16.3309428
X-APPLE-STRUCTURED-LOCATION;VALUE=URI;X-ADDRESS=BÖS-Atelier Vivenotgasse 30/ 2.2 1120 Wien Wien 1120 Österreich;X-APPLE-RADIUS=500;X-TITLE=Vivenotgasse 30/ 2.2:geo:16.3309428,48.1806775
END:VEVENT
END:VCALENDAR