BEGIN:VCALENDAR
VERSION:2.0
PRODID:-//STRAWANZERIN - ECPv4.9.5//NONSGML v1.0//EN
CALSCALE:GREGORIAN
METHOD:PUBLISH
X-WR-CALNAME:STRAWANZERIN
X-ORIGINAL-URL:https://www.strawanzerin.at
X-WR-CALDESC:Veranstaltungen im STRAWANZERIN
BEGIN:VTIMEZONE
TZID:"Europe/Vienna"
BEGIN:DAYLIGHT
TZOFFSETFROM:+0100
TZOFFSETTO:+0200
TZNAME:CEST
DTSTART:20200329T010000
END:DAYLIGHT
BEGIN:STANDARD
TZOFFSETFROM:+0200
TZOFFSETTO:+0100
TZNAME:CET
DTSTART:20201025T010000
END:STANDARD
END:VTIMEZONE
BEGIN:VEVENT
DTSTART;VALUE=DATE:20200125
DTEND;VALUE=DATE:20200128
DTSTAMP:20260420T184854
CREATED:20191204T200151Z
LAST-MODIFIED:20191211T115710Z
UID:70713-1579924800-1580097599@www.strawanzerin.at
SUMMARY:Schreibworkshop "WEITER SCHREIBEN\, FERTIG SCHREIBEN"
DESCRIPTION:Ein Schreibworkshop mit Britta Mühlbauer \nInhalte der Veranstaltung \nWer an einem längeren Text arbeitet\, kennt das Phänomen: Die Arbeit geht voran\, doch eines Tages reißt der Faden. Man verliert die Lust\, den Überblick und sogar den Glauben an die eigenen literarischen Fähigkeiten. Die Ursachen können textimmanent sein oder in der Arbeitsorganisation liegen. Im Workshop nehmen wir diese beiden Ebenen unter die Lupe. Wir experimentieren mit Methoden\, die den Schreibprozess wieder in Gang bringen und erörtern Schreibgewohnheiten und Schreibrituale. \nWas erwartet mich? \nIn diesem Workshop lernst du \n – dir einen Überblick über deinen Text zu verschaffen und Anknüpfungspunkte zum Weiterschreiben zu finden\n – umschreiben\, reduzieren\, ausbauen\, Abzweigungen erforschen\, Umwege gehen\, Rückwege und Auswege finden\n – Lockerungsübungen und literarische „Fingerübungen“\n – den inneren Kritiker zu überlisten\n – Schreibrituale zu entwickeln\n – Selbstmotivation und Selbstorganisation\, realistische Arbeitsplanung \nDieser Workshop ist geeignet für \n – alle\, die an einem längeren Prosatext (Roman\, Erzählung\, Novelle …) arbeiten oder arbeiten wollen \n
URL:https://www.strawanzerin.at/termin/schreibworkshop-weiter-schreiben-fertig-schreiben/
LOCATION:BÖS-Atelier\, Vivenotgasse 30/ 2.2\, 1120 Wien\, Wien\, 1120\, Österreich
CATEGORIES:Bildung,Deutsch,Kunst/Kultur,Literatur,Wien,Workshop
ATTACH;FMTTYPE=image/jpeg:https://www.strawanzerin.at/wp-content/uploads/2019/12/BÖS-Workshop-Bild.jpg
ORGANIZER;CN="B%C3%96S-Berufsverband%20%C3%96sterreichischer%20Schreibp%C3%A4dagogInnen":MAILTO:hannah.sideris@boesmail.at
GEO:48.1806775;16.3309428
X-APPLE-STRUCTURED-LOCATION;VALUE=URI;X-ADDRESS=BÖS-Atelier Vivenotgasse 30/ 2.2 1120 Wien Wien 1120 Österreich;X-APPLE-RADIUS=500;X-TITLE=Vivenotgasse 30/ 2.2:geo:16.3309428,48.1806775
END:VEVENT
END:VCALENDAR