BEGIN:VCALENDAR
VERSION:2.0
PRODID:-//STRAWANZERIN - ECPv4.9.5//NONSGML v1.0//EN
CALSCALE:GREGORIAN
METHOD:PUBLISH
X-WR-CALNAME:STRAWANZERIN
X-ORIGINAL-URL:https://www.strawanzerin.at
X-WR-CALDESC:Veranstaltungen im STRAWANZERIN
BEGIN:VTIMEZONE
TZID:"Europe/Vienna"
BEGIN:DAYLIGHT
TZOFFSETFROM:+0100
TZOFFSETTO:+0200
TZNAME:CEST
DTSTART:20180325T010000
END:DAYLIGHT
BEGIN:STANDARD
TZOFFSETFROM:+0200
TZOFFSETTO:+0100
TZNAME:CET
DTSTART:20181028T010000
END:STANDARD
END:VTIMEZONE
BEGIN:VEVENT
DTSTART;TZID="Europe/Vienna":20180216T200000
DTEND;TZID="Europe/Vienna":20180216T200000
DTSTAMP:20260420T235546
CREATED:20180110T185309Z
LAST-MODIFIED:20180115T085329Z
UID:51536-1518811200-1518811200@www.strawanzerin.at
SUMMARY:Schutzhaus in Blues
DESCRIPTION:Doppelkonzert BLUESPUMPM und DIE BLUES BUAM\nBLUESPUMPM:\n40 Jahre bodenständige\, erdige und vor allem „ehrliche“ Musik\, das macht die BLUESPUMPM\, rund um Gründer „ZAPPA“ Johann Cermak\, aus.\nDie Liebe zur Musik\, zur Natur zu den Menschen ist es auch\, was man bei einem Konzert mit der BLUESPUMPM zu spüren bekommt! Ob stampfende Blues Riffs\, melancholische Klänge oder lange\, fast schon psychedelisch wirkende Passagen… JA – diese Art von Musik und Bands „leben“… JA – sie werden ewig leben!\nWenn „ZAPPA“ sein Organ erklingen lässt\, grölt\, jault\, singt\, rezitiert\, die Bluesharp und seine Lunge würgt und bis zum Anschlag malträtiert… in seinen roten Socken wie ein wild gewordener Troll die Bühne zu seiner Tanzfläche macht\, dann wird allen klar:\nDAS IST POWER – DAS IST LEBEN!\nDIE BLUES BUAM:\nDie Blues Buam scheinen am Rad der Zeit zu drehen. Bei ihren Eigenkompositionen hört man eine gewisse Reverenz an Woodstock heraus (was sich auch im äußeren Erscheinungsbild des einen oder anderen Musikers erkennen lässt). Wie viele große Bands aus dieser Zeit spielen auch die Blues Buam mit drei Gitarren. Und wüsste man es nicht besser\, könnte man meinen sie wären gerade aus den Südstaaten eingeflogen. Ihrem Musikstil sind sie seit vielen Jahren treu geblieben\, die Buam – mit ganz viel Herz und Seele…\nDa fließt der Schweiß beim Spielen und Mittanzen fast so reichlich wie das Bier. Be there\, have fun! \n
URL:https://www.strawanzerin.at/termin/schutzhaus-in-blues/
LOCATION:Schutzhaus Zukunft\, Schmelz\, verlängerte Guntherstraße\, Wien\, Wien\, 1150\, Österreich
CATEGORIES:ab 7,Musik
ATTACH;FMTTYPE=image/jpeg:https://www.strawanzerin.at/wp-content/uploads/2018/01/schutzhaus.jpg
ORGANIZER;CN="Schutzhaus%20Zukunft%20auf%20der%20Schmelz":MAILTO:office@schutzhaus-zukunft.at
GEO:48.2023423;16.3267244
X-APPLE-STRUCTURED-LOCATION;VALUE=URI;X-ADDRESS=Schutzhaus Zukunft Schmelz verlängerte Guntherstraße Wien Wien 1150 Österreich;X-APPLE-RADIUS=500;X-TITLE=Schmelz\, verlängerte Guntherstraße:geo:16.3267244,48.2023423
END:VEVENT
END:VCALENDAR