BEGIN:VCALENDAR
VERSION:2.0
PRODID:-//STRAWANZERIN - ECPv4.9.5//NONSGML v1.0//EN
CALSCALE:GREGORIAN
METHOD:PUBLISH
X-WR-CALNAME:STRAWANZERIN
X-ORIGINAL-URL:https://www.strawanzerin.at
X-WR-CALDESC:Veranstaltungen im STRAWANZERIN
BEGIN:VTIMEZONE
TZID:"Europe/Paris"
BEGIN:DAYLIGHT
TZOFFSETFROM:+0100
TZOFFSETTO:+0200
TZNAME:CEST
DTSTART:20170326T010000
END:DAYLIGHT
BEGIN:STANDARD
TZOFFSETFROM:+0200
TZOFFSETTO:+0100
TZNAME:CET
DTSTART:20171029T010000
END:STANDARD
END:VTIMEZONE
BEGIN:VEVENT
DTSTART;TZID="Europe/Paris":20170220T080000
DTEND;TZID="Europe/Paris":20170220T170000
DTSTAMP:20260422T043129
CREATED:20170227T143619Z
LAST-MODIFIED:20170227T143619Z
UID:40238-1487577600-1487610000@www.strawanzerin.at
SUMMARY:„schutzlos“ “ . . . oder kann Humor schützen“
DESCRIPTION:präsentiert die „Galerie Sandpeck Wien 8“ in der Florianigasse 75 Bilder von Mesi List und plastische Überlegungen von Erwin Schwentner \nVernissage: Sonntag. 26.3.2017 um 17 Uhr\nAusstellung bis Freitag\, 31.3.2017 täglich von 14-19Uhr \nMesi List\nist das Pendeln zwischen skizzenhaften\, flüchtigen Strichen und den erdverbundenen Farbschattierungen\, wie sie in der Natur eben vorkommen\, wichtig. Nicht die Schönheit der Natur\, ihre präzise Wiedergabe steht im Vordergrund sondern die innere Mobilisierung des Gesehenen. Ein Pendeln zwischen Emotion und Rationalität\, wobei sich ein Kosmos von Formen\, Farben\, Flächen\, an- und abschwellenden Strichen und Mustern\, aber auch figürliches auftut.\nErde\, Pflanzen\, Tiere\, Himmel und Wasser\, Berge und Täler werden quasi in ihre Elemente zerlegt\, untersucht\, Neuordnungen zugeführt\, auf Beziehungen und Wirkungen geprüft und neue Umgebungen geschaffen\, die einen mythischen Weltblick zulassen.\nManche abstrakt- expressionistische anmutende Bildschöpfungen\, wirken wie mehrere horizontal übereinander gelagerte Horizontstreifen und zeigen möglicherweise Vergangenheit\, Gegenwart und Zukunft einer Landschaft\, unseren Lebensraum. Tierkörper werden in Geflechte von Strichen\, Linien und Farbflecken hineingeboren oder versuchen aus diesem Inferno zu entkommen.\nMesi List versucht immer wieder etwas Existierendes\, aber nicht sichtbares sichtbar werden zu lassen\, ja sie kann auch durch ihre Farbtöne Klänge erzeugen\, die ein Lied ergeben\, ein Lied von der ewigen Sehnsucht einer Einheit von Mensch und Natur\, so Klaus Dieter Hartl.\nErwin Schwentner\n„Schwentner ist grausam und gutmütig zugleich. Grausam\, weil sein Skalpell tief in die Schichten der Stereotypie einschneidet\, gutmütig\, weil – wenn das Skalpell bis zum lebenden Fleisch vorgedrungen ist – der tödliche Streich ausbleibt. Schwentner berührt eher die humorige\, paradoxe Seite\, die Verzerrung\, die viel eher als die Gewalt Korrosion bewirkt“ so Corriere della Serra\, 31.10.2001.\nErwin Schwentner geboren 1945\, stellt vorwiegend Skulpturen aus Keramik her. Seit 1982 zeigt er seine Arbeiten in Ausstellungen und Ausstellungsbeteiligungen im In- und Ausland. Zahlreiche Studienaufenthalte verbunden mit Ausstellungen in Italien\, Taiwan\, Japan\, Peru\, Bosnien.\nEr erhielt den Viktor Fogarassy-Preis\, 1. Grazer Wasserkunstpreis\, Schreber-Preis anlässlich der Gestaltung des 1.Internationalen Schreber-Denkmals. Werke vom Künstler wurden öffentlich angekauft\, Karikaturmuseum Krems-Beteiligung.\nwww.sandpeck.com \n
URL:https://www.strawanzerin.at/termin/schutzlos-oder-kann-humor-schuetzen/
LOCATION:Österreich
CATEGORIES:Region/Bundesland,Wien
ATTACH;FMTTYPE=image/jpeg:https://www.strawanzerin.at/wp-content/uploads/2017/02/0List_Schwendtner.jpg
END:VEVENT
END:VCALENDAR